BEGIN:VCALENDAR
VERSION:2.0
PRODID:-//ChamberMaster//Event Calendar 2.0//EN
METHOD:PUBLISH
X-PUBLISHED-TTL:P3D
REFRESH-INTERVAL:P3D
CALSCALE:GREGORIAN
BEGIN:VEVENT
DTSTART:20160317T153000Z
DTEND:20160317T183000Z
X-MICROSOFT-CDO-ALLDAYEVENT:FALSE
SUMMARY:Strategic Planning: From Design to Execution
DESCRIPTION:If you fail to plan\, you plan to fail! Creating and executing a plan of action doesn't have to be so difficult. It's all about your vision and following through with your plan. This action-oriented session will discuss:\n\n\n	The benefits of strategic planning\n	Pieces of the strategic puzzle\n	Using a SWOT analysis\n	Identifying goals and tactics\n	Using the four-actions framework tool\n	Deploying your plan with intent and clarity
X-ALT-DESC;FMTTYPE=text/html:<strong>If you fail to plan\, you plan to fail! Creating and executing a plan of action doesn&#39\;t have to be so difficult. It&#39\;s all about your vision and following through with your plan. This action-oriented session will discuss:</strong>\n\n<ul>\n	<li><strong>The benefits of strategic planning</strong></li>\n	<li><strong>Pieces of the strategic puzzle</strong></li>\n	<li><strong>Using a SWOT analysis</strong></li>\n	<li><strong>Identifying goals and tactics</strong></li>\n	<li><strong>Using the four-actions framework tool</strong></li>\n	<li><strong>Deploying your plan with intent and clarity</strong></li>\n</ul>\n
LOCATION:900 SE Eighth St Grants Pass Hamilton House (the blue house in the Family Resource Center parking lot)
UID:e.1818.15771
SEQUENCE:3
DTSTAMP:20260426T030557Z
URL:https://business.grantspasschamber.org/events/details/strategic-planning-from-design-to-execution-03-17-2016-15771
END:VEVENT

END:VCALENDAR
