BEGIN:VCALENDAR
VERSION:2.0
PRODID:-//ChamberMaster//Event Calendar 2.0//EN
METHOD:PUBLISH
X-PUBLISHED-TTL:P3D
REFRESH-INTERVAL:P3D
CALSCALE:GREGORIAN
BEGIN:VEVENT
DTSTART:20200208T043000Z
DTEND:20200208T075500Z
X-MICROSOFT-CDO-ALLDAYEVENT:FALSE
SUMMARY:Stupid Cupid: An Anti-Valentine's Party
DESCRIPTION:Join us on Friday\, February 7th at Vice Brewing Company for STUPID CUPID! -an Anti Valentines Day show sure to entertain and to celebrate Ren.Agade's birthday!! \n\n\n\nHosted by Mulan Rouge and Stefhannie A Mercury Experience!\n\n\n\nPerformances by:\n\nRen.Agade \n\nAngel Dia Kippour \n\nNatasha Blackwell\n\nSundae Sparkles\n\nJohnny Doone Foxx\n\nCalliope Carmichaels MacPherson\n\n\n\nDoors open at 8:30 pm and the show begins at 9:00 pm with a $5 cover at the door.
X-ALT-DESC;FMTTYPE=text/html:<br />\n<span style="font-size:18px\;"><span style="color: rgb(29\, 33\, 41)\; font-family: Helvetica\, Arial\, sans-serif\; white-space: pre-wrap\; background-color: rgb(255\, 255\, 255)\;">Join us on Friday\, February 7th at Vice Brewing Company </span></span><span style="font-size:16px\;"><span style="font-size:18px\;"><span style="color: rgb(29\, 33\, 41)\; font-family: Helvetica\, Arial\, sans-serif\; white-space: pre-wrap\; background-color: rgb(255\, 255\, 255)\;">for STUPID CUPID! -an Anti Valentines Day show sure to entertain and to celebrate Ren.Agade&rsquo\;s birthday!! </span><br style="color: rgb(29\, 33\, 41)\; font-family: Helvetica\, Arial\, sans-serif\; font-size: 14px\; white-space: pre-wrap\; background-color: rgb(255\, 255\, 255)\;" />\n<br style="color: rgb(29\, 33\, 41)\; font-family: Helvetica\, Arial\, sans-serif\; font-size: 14px\; white-space: pre-wrap\; background-color: rgb(255\, 255\, 255)\;" />\n<span style="color: rgb(29\, 33\, 41)\; font-family: Helvetica\, Arial\, sans-serif\; white-space: pre-wrap\; background-color: rgb(255\, 255\, 255)\;">Hosted by Mulan Rouge and Stefhannie A Mercury Experience!</span><br style="color: rgb(29\, 33\, 41)\; font-family: Helvetica\, Arial\, sans-serif\; font-size: 14px\; white-space: pre-wrap\; background-color: rgb(255\, 255\, 255)\;" />\n<br style="color: rgb(29\, 33\, 41)\; font-family: Helvetica\, Arial\, sans-serif\; font-size: 14px\; white-space: pre-wrap\; background-color: rgb(255\, 255\, 255)\;" />\n<span style="color: rgb(29\, 33\, 41)\; font-family: Helvetica\, Arial\, sans-serif\; white-space: pre-wrap\; background-color: rgb(255\, 255\, 255)\;">Performances by:</span><br style="color: rgb(29\, 33\, 41)\; font-family: Helvetica\, Arial\, sans-serif\; font-size: 14px\; white-space: pre-wrap\; background-color: rgb(255\, 255\, 255)\;" />\n<span style="color: rgb(29\, 33\, 41)\; font-family: Helvetica\, Arial\, sans-serif\; white-space: pre-wrap\; background-color: rgb(255\, 255\, 255)\;">Ren.Agade </span><br style="color: rgb(29\, 33\, 41)\; font-family: Helvetica\, Arial\, sans-serif\; font-size: 14px\; white-space: pre-wrap\; background-color: rgb(255\, 255\, 255)\;" />\n<span style="color: rgb(29\, 33\, 41)\; font-family: Helvetica\, Arial\, sans-serif\; white-space: pre-wrap\; background-color: rgb(255\, 255\, 255)\;">Angel Dia Kippour </span><br style="color: rgb(29\, 33\, 41)\; font-family: Helvetica\, Arial\, sans-serif\; font-size: 14px\; white-space: pre-wrap\; background-color: rgb(255\, 255\, 255)\;" />\n<span style="color: rgb(29\, 33\, 41)\; font-family: Helvetica\, Arial\, sans-serif\; white-space: pre-wrap\; background-color: rgb(255\, 255\, 255)\;">Natasha Blackwell</span><br style="color: rgb(29\, 33\, 41)\; font-family: Helvetica\, Arial\, sans-serif\; font-size: 14px\; white-space: pre-wrap\; background-color: rgb(255\, 255\, 255)\;" />\n<span style="color: rgb(29\, 33\, 41)\; font-family: Helvetica\, Arial\, sans-serif\; white-space: pre-wrap\; background-color: rgb(255\, 255\, 255)\;">Sundae Sparkles</span><br style="color: rgb(29\, 33\, 41)\; font-family: Helvetica\, Arial\, sans-serif\; font-size: 14px\; white-space: pre-wrap\; background-color: rgb(255\, 255\, 255)\;" />\n<span style="color: rgb(29\, 33\, 41)\; font-family: Helvetica\, Arial\, sans-serif\; white-space: pre-wrap\; background-color: rgb(255\, 255\, 255)\;">Johnny Doone Foxx</span><br style="color: rgb(29\, 33\, 41)\; font-family: Helvetica\, Arial\, sans-serif\; font-size: 14px\; white-space: pre-wrap\; background-color: rgb(255\, 255\, 255)\;" />\n<span style="color: rgb(29\, 33\, 41)\; font-family: Helvetica\, Arial\, sans-serif\; white-space: pre-wrap\; background-color: rgb(255\, 255\, 255)\;">Calliope Carmichaels MacPherson</span><br style="color: rgb(29\, 33\, 41)\; font-family: Helvetica\, Arial\, sans-serif\; font-size: 14px\; white-space: pre-wrap\; background-color: rgb(255\, 255\, 255)\;" />\n<br style="color: rgb(29\, 33\, 41)\; font-family: Helvetica\, Arial\, sans-serif\; font-size: 14px\; white-space: pre-wrap\; background-color: rgb(255\, 255\, 255)\;" />\n<span style="color: rgb(29\, 33\, 41)\; font-family: Helvetica\, Arial\, sans-serif\; white-space: pre-wrap\; background-color: rgb(255\, 255\, 255)\;">Doors open at 8:30 pm and the s</span><span style="color: rgb(29\, 33\, 41)\; font-family: Helvetica\, Arial\, sans-serif\; white-space: pre-wrap\; background-color: rgb(255\, 255\, 255)\;">how begins at 9:00 pm with a </span><span style="color: rgb(29\, 33\, 41)\; font-family: Helvetica\, Arial\, sans-serif\; white-space: pre-wrap\; background-color: rgb(255\, 255\, 255)\;">$5 cover at the door.</span></span></span><br style="color: rgb(29\, 33\, 41)\; font-family: Helvetica\, Arial\, sans-serif\; font-size: 14px\; white-space: pre-wrap\; background-color: rgb(255\, 255\, 255)\;" />\n&nbsp\;
LOCATION:Vice Brewing Company 220 SW H St. Unit-A Grants Pass\, OR 97526
UID:e.1818.33058
SEQUENCE:3
DTSTAMP:20260424T012829Z
URL:https://business.grantspasschamber.org/events/details/stupid-cupid-an-anti-valentine-s-party-33058
END:VEVENT

END:VCALENDAR
