BEGIN:VCALENDAR
VERSION:2.0
PRODID:-//ChamberMaster//Event Calendar 2.0//EN
METHOD:PUBLISH
X-PUBLISHED-TTL:P3D
REFRESH-INTERVAL:P3D
CALSCALE:GREGORIAN
BEGIN:VEVENT
DTSTART:20180623T210000Z
DTEND:20180624T020000Z
X-MICROSOFT-CDO-ALLDAYEVENT:FALSE
SUMMARY:Summer Solstice Brewfest ~ Siskiyou Field Institute
DESCRIPTION:Enjoy an afternoon of "Suds & Songs" at our Deer Creek Center.  This a a "fun" raiser to support SFI's youth camps and backpacking trips !!!\n\n\n\nAnd enjoy a day in the sun\, support a great cause and sign up for summer camps\, outdoor expeditions\, and nature courses.\n\n	Rock your suds with "Donna Beandin & the Fringe" \n	Delicious Eats by Sunspot Grill/ Kevin Gillette Catering\n\nTickets Sold at the Gate:  $20.00 Entry/Person (includes 4 taste tickets)\n\n\n\nLocally crafted microbrews from Ninkasi\, Standing Stone\, Caldera\, Wild River plus \, food\, root beer\, ice cream and more!\n\n\n\nThis is a 21 and older event.
X-ALT-DESC;FMTTYPE=text/html:<strong>Enjoy an afternoon of &quot\;Suds &amp\; Songs&quot\; at our Deer Creek Center.&nbsp\; This a a &quot\;fun&quot\; raiser to support SFI&#39\;s youth camps and backpacking trips !!!<br />\n<br />\nAnd enjoy a day in the sun\, support a great cause and sign up for summer camps\, outdoor expeditions\, and nature courses.</strong>\n<ul>\n	<li><strong>Rock your suds with &quot\;Donna Beandin &amp\; the Fringe&quot\; </strong></li>\n	<li><strong>Delicious Eats by Sunspot Grill/ Kevin Gillette Catering</strong></li>\n</ul>\n<strong><u>Tickets Sold at the Gate</u>:&nbsp\; $20.00 Entry/Person (includes 4 taste tickets)<br />\n<br />\nLocally crafted microbrews from Ninkasi\, Standing Stone\, Caldera\, Wild River plus \, food\, root beer\, ice cream and more!</strong><br />\n<br />\n<u><em><strong>This is a 21 and older event.</strong></em></u><br />\n<br />\n<br />\n&nbsp\;
LOCATION:Siskiyou Field Institute 1241 Illinois River Road Deer Creek Center Selma\, OR
UID:e.1818.28950
SEQUENCE:3
DTSTAMP:20260424T013048Z
URL:https://business.grantspasschamber.org/events/details/summer-solstice-brewfest-siskiyou-field-institute-28950
END:VEVENT

END:VCALENDAR
