BEGIN:VCALENDAR
VERSION:2.0
PRODID:-//ChamberMaster//Event Calendar 2.0//EN
METHOD:PUBLISH
X-PUBLISHED-TTL:P3D
REFRESH-INTERVAL:P3D
CALSCALE:GREGORIAN
BEGIN:VEVENT
DTSTART:20160514T220000Z
DTEND:20160514T233000Z
X-MICROSOFT-CDO-ALLDAYEVENT:FALSE
SUMMARY:Sunrise - 3 Rivers Chorale Concert
DESCRIPTION:The 3 Rivers Choral\, under the direction of Kate Campbell performs the mystical\, moving\, and hauntingly lovely full-length Sunrise Mass for double chorus and string orchestra\, written by the Norwegian composer\, Ola Gjeilo.\n\n\n\nAlso on the program are works by Mark Thomas\, Giselle Wyers\, Morten Lauridsen and other contemporary American composers.
X-ALT-DESC;FMTTYPE=text/html:<strong>The 3 Rivers Choral\, under the direction of Kate Campbell performs the mystical\, moving\, and hauntingly lovely full-length Sunrise Mass for double chorus and string orchestra\, written by the Norwegian composer\, Ola Gjeilo.<br />\n<br />\nAlso on the program are works by Mark Thomas\, Giselle Wyers\, Morten Lauridsen and other contemporary American composers.</strong>
LOCATION:Bridgeview Community Church 5181 Holland Loop Rd Cave Junction
UID:e.1818.17455
SEQUENCE:3
DTSTAMP:20260426T000036Z
URL:https://business.grantspasschamber.org/events/details/sunrise-3-rivers-chorale-concert-05-14-2016-17455
END:VEVENT

END:VCALENDAR
