BEGIN:VCALENDAR
VERSION:2.0
PRODID:-//ChamberMaster//Event Calendar 2.0//EN
METHOD:PUBLISH
X-PUBLISHED-TTL:P3D
REFRESH-INTERVAL:P3D
CALSCALE:GREGORIAN
BEGIN:VEVENT
DTSTART:20250321T223000Z
DTEND:20250322T003000Z
X-MICROSOFT-CDO-ALLDAYEVENT:FALSE
SUMMARY:Supporting People Living with Dementia: Advance Care Planning
DESCRIPTION:This workshop will include:\n\n  A look at why planning for care in the future is important\n\n  Thinking about goals\, values\, and what matters most\n\n  Learning about possible future situations and choices you might face   Understanding how to make decisions for yourself or have someone help you\n\n  Discussing things to think about if you or a loved one has dementia\, and what to write down to help with care in the future (life story)
X-ALT-DESC;FMTTYPE=text/html:<span style="font-size:20px\;">This workshop will include:<br />\n&bull\; A look at why planning for care in the future is important<br />\n&bull\; Thinking about goals\, values\, and what matters most<br />\n&bull\; Learning about possible future situations and choices you might face &bull\; Understanding how to make decisions for yourself or have someone help you<br />\n&bull\; Discussing things to think about if you or a loved one has dementia\, and what to write down to help with care in the future (life story)</span>
LOCATION:Grants Pass Library 200 NW C St Grants Pass\, OR 97526
UID:e.1818.54106
SEQUENCE:3
DTSTAMP:20260419T152737Z
URL:https://business.grantspasschamber.org/events/details/supporting-people-living-with-dementia-advance-care-planning-54106
END:VEVENT

END:VCALENDAR
