BEGIN:VCALENDAR
VERSION:2.0
PRODID:-//ChamberMaster//Event Calendar 2.0//EN
METHOD:PUBLISH
X-PUBLISHED-TTL:P3D
REFRESH-INTERVAL:P3D
CALSCALE:GREGORIAN
BEGIN:VEVENT
DTSTART:20180629T023000Z
DTEND:20180629T050000Z
X-MICROSOFT-CDO-ALLDAYEVENT:FALSE
SUMMARY:T Poe & Friends ~ Barnstormers Theatere
DESCRIPTION:Spoken word magic from one of Southern Oregon's most prolific wordmasters. Backed by musicians from around the region\, this is sure to be one of the more unique shows.
X-ALT-DESC;FMTTYPE=text/html:Spoken word magic from one of Southern Oregon&#39\;s most prolific wordmasters. Backed by musicians from around the region\, this is sure to be one of the more unique shows.
LOCATION:Barnstormers Theatre 112 NE Evelyn Ave. Grants Pass\, OR 97526 541-479-3557
UID:e.1818.24950
SEQUENCE:3
DTSTAMP:20260424T013118Z
URL:https://business.grantspasschamber.org/events/details/t-poe-friends-barnstormers-theatere-24950
END:VEVENT

END:VCALENDAR
