BEGIN:VCALENDAR
VERSION:2.0
PRODID:-//ChamberMaster//Event Calendar 2.0//EN
METHOD:PUBLISH
X-PUBLISHED-TTL:P3D
REFRESH-INTERVAL:P3D
CALSCALE:GREGORIAN
BEGIN:VEVENT
DTSTART:20180428T160000Z
DTEND:20180428T190000Z
X-MICROSOFT-CDO-ALLDAYEVENT:FALSE
SUMMARY:Table Rock Hike
DESCRIPTION:Legacy of a Landmark\n\n Join The Nature Conservancy and the  Bureau of Land Management for free guided hikes at the Table Rocks.
X-ALT-DESC;FMTTYPE=text/html:<strong><u>Legacy of a Landmark</u></strong><br />\n&#8203\;Join The Nature Conservancy and the&nbsp\; Bureau of Land Management for free guided hikes at the Table Rocks.
LOCATION:Lower Table Rock
UID:e.1818.28747
SEQUENCE:3
DTSTAMP:20260424T050549Z
URL:https://business.grantspasschamber.org/events/details/table-rock-hike-28747
END:VEVENT

END:VCALENDAR
