BEGIN:VCALENDAR
VERSION:2.0
PRODID:-//ChamberMaster//Event Calendar 2.0//EN
METHOD:PUBLISH
X-PUBLISHED-TTL:P3D
REFRESH-INTERVAL:P3D
CALSCALE:GREGORIAN
BEGIN:VEVENT
DTSTART:20160510T000000Z
DTEND:20160510T020000Z
X-MICROSOFT-CDO-ALLDAYEVENT:FALSE
SUMMARY:TACO NIGHT
DESCRIPTION:Join us as we explore some new and exciting options for the family friendly "Taco Night". FREE COOKING CLASS! Class includes recipes as well as samples of each item prepared. Classes will be held in the Demonstration Kitchen on the 4th Floor of the Asante Center for Outpatient Health located at 537 SW Union Avenue in Grants Pass. Space is limited\, reservations are required. Please call and reserve your seat at 541-471-4208.
X-ALT-DESC;FMTTYPE=text/html:Join us as we explore some new and exciting options for the family friendly &quot\;Taco Night&quot\;. FREE COOKING CLASS! Class includes recipes as well as samples of each item prepared. Classes will be held in the Demonstration Kitchen on the 4th Floor of the Asante Center for Outpatient Health located at 537 SW Union Avenue in Grants Pass. Space is limited\, reservations are required. Please call and reserve your seat at 541-471-4208.
LOCATION:Asante Center for Outpatient Health 537 SW Union Ave Grants Pass\, OR 97527 Demonstration Kitchen\, Fourth Floor - Straight ahead off the elevator
UID:e.1818.17218
SEQUENCE:3
DTSTAMP:20260425T235936Z
URL:https://business.grantspasschamber.org/events/details/taco-night-05-09-2016-17218
END:VEVENT

END:VCALENDAR
