BEGIN:VCALENDAR
VERSION:2.0
PRODID:-//ChamberMaster//Event Calendar 2.0//EN
METHOD:PUBLISH
X-PUBLISHED-TTL:P3D
REFRESH-INTERVAL:P3D
CALSCALE:GREGORIAN
BEGIN:VEVENT
DTSTART:20250314T020000Z
DTEND:20250314T033000Z
X-MICROSOFT-CDO-ALLDAYEVENT:FALSE
SUMMARY:Talk: Serpentine Ecology
DESCRIPTION:Program: Serpentine Ecology: Wacky Soils Build Glorious Places!\n\nThursday\, March 13\, 7-8:30\n\nWild River Pub in Grants Pass\n\nJoin us for a free evening program at the Wild River Pub in Grants Pass. In the Klamath-Siskiyous\, we have significant "wacky soils"\, serpentine or ultramafic soils that derive from mantle rocks and often support rare plants. Serpentine is only found on around 1 percent of land   it is a rare landscape. Serpentine ecology describes the interaction between these unique soils and plants and animals. Kristi Mergenthaler is a botanist\, the stewardship director of Southern Oregon Land Conservancy\, and a long-term volunteer with the Siskiyou Chapter Native Plant Society of Oregon. She will highlight some of the special places and plants in the Illinois Valley and touch on the growing demand for nickel in green energy and proposed nickel mining in botanical areas. This program is co-coordinated by Siskiyou Chapter Native Plant Society of Oregon and Southern Oregon Land Conservancy.\n\nFind us in the back room at 533 NE "F" St\, Grants Pass. Arrive early to secure your seat and please support the pub by ordering pizza and drinks.
X-ALT-DESC;FMTTYPE=text/html:<div class="xdj266r x11i5rnm xat24cr x1mh8g0r x1vvkbs" style="margin: 0px\; overflow-wrap: break-word\; font-family: &quot\;Segoe UI Historic&quot\;\, &quot\;Segoe UI&quot\;\, Helvetica\, Arial\, sans-serif\; color: rgb(8\, 8\, 9)\; font-size: 15px\; background-color: rgb(255\, 255\, 255)\;"><span style="font-size:20px\;">Program: Serpentine Ecology: Wacky Soils Build Glorious Places!</span></div>\n\n<div class="x11i5rnm xat24cr x1mh8g0r x1vvkbs xtlvy1s" style="margin: 0.5em 0px 0px\; overflow-wrap: break-word\; font-family: &quot\;Segoe UI Historic&quot\;\, &quot\;Segoe UI&quot\;\, Helvetica\, Arial\, sans-serif\; color: rgb(8\, 8\, 9)\; font-size: 15px\; background-color: rgb(255\, 255\, 255)\;"><span style="font-size:20px\;">Thursday\, March 13\, 7-8:30</span></div>\n\n<div class="x11i5rnm xat24cr x1mh8g0r x1vvkbs xtlvy1s" style="margin: 0.5em 0px 0px\; overflow-wrap: break-word\; font-family: &quot\;Segoe UI Historic&quot\;\, &quot\;Segoe UI&quot\;\, Helvetica\, Arial\, sans-serif\; color: rgb(8\, 8\, 9)\; font-size: 15px\; background-color: rgb(255\, 255\, 255)\;"><span style="font-size:20px\;">Wild River Pub in Grants Pass</span></div>\n\n<div class="x11i5rnm xat24cr x1mh8g0r x1vvkbs xtlvy1s" style="margin: 0.5em 0px 0px\; overflow-wrap: break-word\; font-family: &quot\;Segoe UI Historic&quot\;\, &quot\;Segoe UI&quot\;\, Helvetica\, Arial\, sans-serif\; color: rgb(8\, 8\, 9)\; font-size: 15px\; background-color: rgb(255\, 255\, 255)\;"><span style="font-size:20px\;">Join us for a free evening program at the Wild River Pub in Grants Pass. In the Klamath-Siskiyous\, we have significant &ldquo\;wacky soils&rdquo\;\, serpentine or ultramafic soils that derive from mantle rocks and often support rare plants. Serpentine is only found on around 1 percent of land &ndash\; it is a rare landscape. Serpentine ecology describes the interaction between these unique soils and plants and animals. Kristi Mergenthaler is a botanist\, the stewardship director of Southern Oregon Land Conservancy\, and a long-term volunteer with the Siskiyou Chapter Native Plant Society of Oregon. She will highlight some of the special places and plants in the Illinois Valley and touch on the growing demand for nickel in green energy and proposed nickel mining in botanical areas. This program is co-coordinated by Siskiyou Chapter Native Plant Society of Oregon and Southern Oregon Land Conservancy.</span></div>\n\n<div class="x11i5rnm xat24cr x1mh8g0r x1vvkbs xtlvy1s" style="margin: 0.5em 0px 0px\; overflow-wrap: break-word\; font-family: &quot\;Segoe UI Historic&quot\;\, &quot\;Segoe UI&quot\;\, Helvetica\, Arial\, sans-serif\; color: rgb(8\, 8\, 9)\; font-size: 15px\; background-color: rgb(255\, 255\, 255)\;"><span style="font-size:20px\;">Find us in the back room at 533 NE &ldquo\;F&rdquo\; St\, Grants Pass. Arrive early to secure your seat and please support the pub by ordering pizza and drinks.</span></div>\n
LOCATION:Wild River Pub 533 NE F St
UID:e.1818.54132
SEQUENCE:3
DTSTAMP:20260419T152335Z
URL:https://business.grantspasschamber.org/events/details/talk-serpentine-ecology-54132
END:VEVENT

END:VCALENDAR
