BEGIN:VCALENDAR
VERSION:2.0
PRODID:-//ChamberMaster//Event Calendar 2.0//EN
METHOD:PUBLISH
X-PUBLISHED-TTL:P3D
REFRESH-INTERVAL:P3D
CALSCALE:GREGORIAN
BEGIN:VEVENT
DTSTART;VALUE=DATE:20161015
DTEND;VALUE=DATE:20161016
TRANSP:TRANSPARENT
X-MICROSOFT-CDO-ALLDAYEVENT:TRUE
SUMMARY:Tap Walk
DESCRIPTION:Food Microbrews & Fun\n\n\n\nWith various eateries serving regional microbrews and food. Sponsored by the Towne Center Association.
X-ALT-DESC;FMTTYPE=text/html:<strong><u>Food Microbrews &amp\; Fun</u><br />\n<br />\nWith various eateries serving regional microbrews and food. Sponsored by the Towne Center Association.</strong>
LOCATION:Downtown Grants Pass
UID:e.1818.15514
SEQUENCE:3
DTSTAMP:20260425T162857Z
URL:https://business.grantspasschamber.org/events/details/tap-walk-10-15-2016-15514
END:VEVENT

END:VCALENDAR
