BEGIN:VCALENDAR
VERSION:2.0
PRODID:-//ChamberMaster//Event Calendar 2.0//EN
METHOD:PUBLISH
X-PUBLISHED-TTL:P3D
REFRESH-INTERVAL:P3D
CALSCALE:GREGORIAN
BEGIN:VEVENT
DTSTART:20161130T010000Z
DTEND:20161130T040000Z
X-MICROSOFT-CDO-ALLDAYEVENT:FALSE
SUMMARY:Taste and Give - Pregnancy Care Center
DESCRIPTION:Join the Pregnancy Care Center at Taste and Give on #GivingTuesday! Thank you to Rogue Valley Messenger for hosting the first ever "Taste and Give" event on Giving Tuesday\, November 29th (after black Friday & cyber Monday)!\n\n\n\nFrom 5-8pm Rogue Valley non-profit organizations\, local breweries and wineries will be teaming up to raise money for the community!\n\n\n\nThe PCC is blessed to have been paired with Schmidt Family Vineyards! Come and taste and give to the charity of your choice!\n\n\n\nEvent will be held at the Holly Theatre\, 226 W. 6th Street\, Medford. Cost to taste is FREE! We hope you'll join us there.
X-ALT-DESC;FMTTYPE=text/html:<strong>Join the Pregnancy Care Center at Taste and Give on #GivingTuesday! Thank you to Rogue Valley Messenger for hosting the first ever &quot\;Taste and Give&quot\; event on Giving Tuesday\, November 29th (after black Friday &amp\; cyber Monday)!<br />\n<br />\nFrom 5-8pm Rogue Valley non-profit organizations\, local breweries and wineries will be teaming up to raise money for the community!<br />\n<br />\nThe PCC is blessed to have been paired with Schmidt Family Vineyards! Come and taste and give to the charity of your choice!<br />\n<br />\nEvent will be held at the Holly Theatre\, 226 W. 6th Street\, Medford. Cost to taste is FREE! We hope you&#39\;ll join us there.</strong>
LOCATION:Holly Theatre 226 W. 6th Street Medford\, OR
UID:e.1818.19098
SEQUENCE:3
DTSTAMP:20260425T145224Z
URL:https://business.grantspasschamber.org/events/details/taste-and-give-pregnancy-care-center-19098
END:VEVENT

END:VCALENDAR
