BEGIN:VCALENDAR
VERSION:2.0
PRODID:-//ChamberMaster//Event Calendar 2.0//EN
METHOD:PUBLISH
X-PUBLISHED-TTL:P3D
REFRESH-INTERVAL:P3D
CALSCALE:GREGORIAN
BEGIN:VEVENT
DTSTART:20161001T020000Z
DTEND:20161001T060000Z
X-MICROSOFT-CDO-ALLDAYEVENT:FALSE
SUMMARY:Tech N9ne's The Calm Before The Storm Tour 2016
DESCRIPTION:In2Win Entertainment presents Tech N9ne.\n\n\n\nHe will be #live in Grants Pass\, Oregon at the Josephine County Fairgrounds September 30 and he's bringing some of his STRANGE MUSIC INC friends along with him!\n\n\n\n-- Featuring -- * Krizz Kaliko * JL (of B.Hood) * Starrz * Rae Rock * Josia * Peacoat Gang * DANE OSEVEN\n\n\n\n*** Sponsored by *** High Tide Wellness Center LLC Applegate Soils Buddha's Wellness Center Sacred Flower Medicinals Southern Oregon Alternative Medicine *** Radio Sponsor *** Paradise Superstore *** Ticket Hubs (Surcharge Free) *** - High Tide Wellness Center LLC 15957 Highway 101 S\, Ste 4 Brookings\, Oregon - Applegate Soils 610 Rossanley Dr Medford\, Oregon - Buddha's Wellness Center 264 6th St Suite D Port Orford\, Oregon *** Food *** TBA More details to come!!! Stay Tuned!!!
X-ALT-DESC;FMTTYPE=text/html:<strong><u>In2Win Entertainment presents</u> Tech N9ne.<br />\n<br />\nHe will be #live in Grants Pass\, Oregon at the Josephine County Fairgrounds September 30 and he&#39\;s bringing some of his STRANGE MUSIC INC friends along with him!<br />\n<br />\n-- Featuring -- * Krizz Kaliko * JL (of B.Hood) * Starrz * Rae Rock * Josia * Peacoat Gang * DANE OSEVEN<br />\n<br />\n*** Sponsored by *** High Tide Wellness Center LLC Applegate Soils Buddha&#39\;s Wellness Center Sacred Flower Medicinals Southern Oregon Alternative Medicine *** Radio Sponsor *** Paradise Superstore *** Ticket Hubs (Surcharge Free) *** - High Tide Wellness Center LLC 15957 Highway 101 S\, Ste 4 Brookings\, Oregon - Applegate Soils 610 Rossanley Dr Medford\, Oregon - Buddha&#39\;s Wellness Center 264 6th St Suite D Port Orford\, Oregon *** Food *** TBA More details to come!!! Stay Tuned!!</strong>!
LOCATION:Josephine County Fairgrounds 1451 Fairgrounds Rd Grants Pass\, OR 97527
UID:e.1818.17699
SEQUENCE:3
DTSTAMP:20260425T181532Z
URL:https://business.grantspasschamber.org/events/details/tech-n9ne-s-the-calm-before-the-storm-tour-2016-17699
END:VEVENT

END:VCALENDAR
