BEGIN:VCALENDAR
VERSION:2.0
PRODID:-//ChamberMaster//Event Calendar 2.0//EN
METHOD:PUBLISH
X-PUBLISHED-TTL:P3D
REFRESH-INTERVAL:P3D
CALSCALE:GREGORIAN
BEGIN:VEVENT
DTSTART;VALUE=DATE:20161125
DTEND;VALUE=DATE:20161128
TRANSP:TRANSPARENT
X-MICROSOFT-CDO-ALLDAYEVENT:TRUE
SUMMARY:Thanksgiving Weekend Steals ~ Shop River Rock
DESCRIPTION:Thanksgiving Weekend Steals\n\n\n	40% off all fall Home Decor\n	20% Off your entire Holiday Purchase (excludes sale items)\n	Pandora's - Exclusive Black Friday Charm will be revealed
X-ALT-DESC;FMTTYPE=text/html:<strong><u><span style="font-size:18px\;">Thanksgiving Weekend Steals</span></u></strong>\n\n<ul>\n	<li><strong>40% off all fall Home Decor</strong></li>\n	<li><strong>20% Off your entire Holiday Purchase (excludes sale items)</strong></li>\n	<li><strong><strong>Pandora&#39\;s - Exclusive Black Friday Charm will be revealed</strong></strong></li>\n</ul>\n
LOCATION:Shop River Rock 966 SW 6th Street (Upstairs) Grants Pass
UID:e.1818.19086
SEQUENCE:3
DTSTAMP:20260425T144945Z
URL:https://business.grantspasschamber.org/events/details/thanksgiving-weekend-steals-shop-river-rock-19086
END:VEVENT

END:VCALENDAR
