BEGIN:VCALENDAR
VERSION:2.0
PRODID:-//ChamberMaster//Event Calendar 2.0//EN
METHOD:PUBLISH
X-PUBLISHED-TTL:P3D
REFRESH-INTERVAL:P3D
CALSCALE:GREGORIAN
BEGIN:VEVENT
DTSTART:20160408T200000Z
DTEND:20160408T220000Z
X-MICROSOFT-CDO-ALLDAYEVENT:FALSE
SUMMARY:The Chinese in Oregon ~ JoCo Historical Society Barn
DESCRIPTION:"Trish" Hackett Nicola will be presenting files specific to local communities or a general discussion of information and documents found in the files.
X-ALT-DESC;FMTTYPE=text/html:<strong>&quot\;Trish&quot\; Hackett Nicola will be presenting files specific to local communities or a general discussion of information and documents found in the files.</strong>
LOCATION:Josephine County Historical Society Barn 508 SW 5th Grants Pass
UID:e.1818.17207
SEQUENCE:3
DTSTAMP:20260426T013809Z
URL:https://business.grantspasschamber.org/events/details/the-chinese-in-oregon-joco-historical-society-barn-04-08-2016-17207
END:VEVENT

END:VCALENDAR
