BEGIN:VCALENDAR
VERSION:2.0
PRODID:-//ChamberMaster//Event Calendar 2.0//EN
METHOD:PUBLISH
X-PUBLISHED-TTL:P3D
REFRESH-INTERVAL:P3D
CALSCALE:GREGORIAN
BEGIN:VEVENT
DTSTART:20161028T020000Z
DTEND:20161028T040000Z
X-MICROSOFT-CDO-ALLDAYEVENT:FALSE
SUMMARY:The Hearth: Real Story Telling by Regular People
DESCRIPTION:Bring your friends and meet new friends at The Hearth.\n\n\n\nThis community building project provides real stories by regular people that will poke at your funny bone and pluck at your heart strings.\n\n\n\nTellers Chris Mecca\, Diana Coogle and others will share scary themed stories. Music provided by B'Wishes as well as Gordon Schmeider.\n\n\n\nThe suggested $5 donation at the door benefits Josephine County Foundation.
X-ALT-DESC;FMTTYPE=text/html:<strong>Bring your friends and meet new friends at The Hearth.<br />\n<br />\nThis community building project provides real stories by regular people that will poke at your funny bone and pluck at your heart strings.<br />\n<br />\nTellers Chris Mecca\, Diana Coogle and others will share scary themed stories. Music provided by B&#39\;Wishes as well as Gordon Schmeider.<br />\n<br />\nThe suggested $5 donation at the door benefits Josephine County Foundation.</strong>
LOCATION:Bethany Presbyterian Church located at 741 NW 4th\, Grants Pass 97526
UID:e.1818.17893
SEQUENCE:3
DTSTAMP:20260425T163051Z
URL:https://business.grantspasschamber.org/events/details/the-hearth-real-story-telling-by-regular-people-17893
END:VEVENT

END:VCALENDAR
