BEGIN:VCALENDAR
VERSION:2.0
PRODID:-//ChamberMaster//Event Calendar 2.0//EN
METHOD:PUBLISH
X-PUBLISHED-TTL:P3D
REFRESH-INTERVAL:P3D
CALSCALE:GREGORIAN
BEGIN:VEVENT
DTSTART:20160402T020000Z
DTEND:20160403T210000Z
X-MICROSOFT-CDO-ALLDAYEVENT:FALSE
SUMMARY:The Little Mermaid - One Eleven Theatre
DESCRIPTION:Join us "Under the Sea" at the Grants Pass High School Performing Arts Center for a dazzling new musical\, "The Little Mermaid." Beautifully designed and starring local favorites\, it is sure to awe young and old alike!
X-ALT-DESC;FMTTYPE=text/html:Join us &quot\;Under the Sea&quot\; at the Grants Pass High School Performing Arts Center for a dazzling new musical\, &quot\;The Little Mermaid.&quot\; Beautifully designed and starring local favorites\, it is sure to awe young and old alike!
LOCATION:Grants Pass High School Performing Arts Center
UID:e.1818.16863
SEQUENCE:3
DTSTAMP:20260426T013810Z
URL:https://business.grantspasschamber.org/events/details/the-little-mermaid-one-eleven-theatre-04-01-2016-16863
END:VEVENT

END:VCALENDAR
