BEGIN:VCALENDAR
VERSION:2.0
PRODID:-//ChamberMaster//Event Calendar 2.0//EN
METHOD:PUBLISH
X-PUBLISHED-TTL:P3D
REFRESH-INTERVAL:P3D
CALSCALE:GREGORIAN
BEGIN:VEVENT
DTSTART;VALUE=DATE:20240329
DTEND;VALUE=DATE:20240401
TRANSP:TRANSPARENT
X-MICROSOFT-CDO-ALLDAYEVENT:TRUE
SUMMARY:"The Miracles of Jesus" Play
DESCRIPTION:Experience the Wonders of Easter with New Life Pentecostal Church!\n\n\n\nJoin us for a special family-friendly faith play: THE MIRACLES OF JESUS. Witness the captivating portrayal of Jesus Christ's ministry\, death\, and resurrection that will touch hearts of all ages. Catch our evening showings at 7:30 pm on both Friday\, March 29th\, and Saturday\, March 30th\, along with a matinee on Easter Sunday at 11:00 am.\n\n\n\nFind us at New Life Pentecostal Church\, located at 1983 Willow Lane in Grants Pass. For more details or to arrange transportation\, call 541-479-3074.
X-ALT-DESC;FMTTYPE=text/html:<span style="font-size:20px\;">Experience the Wonders of Easter with New Life Pentecostal Church!<br />\n<br />\nJoin us for a special family-friendly faith play: THE MIRACLES OF JESUS. Witness the captivating portrayal of Jesus Christ&#39\;s ministry\, death\, and resurrection that will touch hearts of all ages. Catch our evening showings at 7:30 pm on both Friday\, March 29th\, and Saturday\, March 30th\, along with a matinee on Easter Sunday at 11:00 am.<br />\n<br />\nFind us at New Life Pentecostal Church\, located at 1983 Willow Lane in Grants Pass. For more details or to arrange transportation\, call 541-479-3074.</span>
LOCATION:New Life Pentecostal Church 1983 Willow Lane Grants Pass
UID:e.1818.48988
SEQUENCE:3
DTSTAMP:20260420T143210Z
URL:https://business.grantspasschamber.org/events/details/the-miracles-of-jesus-play-48988
END:VEVENT

END:VCALENDAR
