BEGIN:VCALENDAR
VERSION:2.0
PRODID:-//ChamberMaster//Event Calendar 2.0//EN
METHOD:PUBLISH
X-PUBLISHED-TTL:P3D
REFRESH-INTERVAL:P3D
CALSCALE:GREGORIAN
BEGIN:VEVENT
DTSTART:20250516T160000Z
DTEND:20250516T180000Z
X-MICROSOFT-CDO-ALLDAYEVENT:FALSE
SUMMARY:The New Work Life Balance: Creating a Portfolio Life
DESCRIPTION:The time has come when we need to be "portfolio people" who think of our vocations\, not just in terms of a single defined job or occupation\, but more as a holistic body of work. In this workshop\, we will discuss what it takes to create a career and life portfolio and then how to live it!\n\n\n\nTopics Covered:\n\n	Managing your career more by intention rather than by circumstance.\n	Recognizing and responding to changes in career priorities in different stages of your life.\n	Making the most of realizations - such as reaching your career peak or grasping that life is finite\, with time being a very precious commodity.\n\n\n\n       Overcoming fears associated with going after your dreams.\n\n\n\nPresenter\n\nThis workshop is presented by Jeff Levy. Jeff is the author of "Making the Jump into Small Business Ownership". He is a speaker and coach to individuals interested in exploring self-actualization. He also assists individuals who are interested in self-employment with an emphasis in franchising. His experience includes participation in new technology companies\, leveraged buyouts\, management buyouts\, raising investment capital and coach to hundreds of startup ventures. If you have ever considered creating and implementing your vision of what life should look like\, this workshop will inspire you. See Jeff's LinkedIn profile here: Jeff Levy
X-ALT-DESC;FMTTYPE=text/html:<span style="font-size:20px\;"><span style="color: rgb(0\, 0\, 0)\; font-family: arial\;">The time has come when we need to be &quot\;portfolio people&quot\; who think of our vocations\, not just in terms of a single defined job or occupation\, but more as a holistic body of work.&nbsp\;In this workshop\,&nbsp\;we will discuss what it takes to create a career and life portfolio and then how to live it!<br />\n<br />\nTopics Covered:</span></span>\n<ul>\n	<li><span style="font-size:20px\;"><span style="color: rgb(0\, 0\, 0)\; font-family: arial\;">Managing your career more by intention rather than by circumstance.</span></span></li>\n	<li><span style="font-size:20px\;"><span style="color: rgb(0\, 0\, 0)\; font-family: arial\;">Recognizing and responding to changes in career priorities in different&nbsp\;stages of your life.</span></span></li>\n	<li><span style="font-size:20px\;"><span style="color: rgb(0\, 0\, 0)\; font-family: arial\;">Making the most of realizations - such as reaching your career peak&nbsp\;or grasping that life is finite\, with time being a very precious commodity.</span></span></li>\n</ul>\n<br />\n<span style="font-size:20px\;"><span style="color: rgb(0\, 0\, 0)\; font-family: arial\;">&middot\;&nbsp\;&nbsp\;&nbsp\;&nbsp\;&nbsp\;&nbsp\;Overcoming fears associated with going after your dreams.<br />\n<br />\nPresenter<br />\nThis workshop is presented by Jeff Levy.&nbsp\;Jeff is the author of &ldquo\;Making the Jump into Small Business Ownership&rdquo\;.&nbsp\;He is a speaker and coach to individuals interested in exploring self-actualization.&nbsp\;He also assists individuals who are interested in self-employment with an emphasis in franchising.&nbsp\;His experience includes participation in new technology companies\, leveraged buyouts\, management buyouts\, raising investment capital and coach to hundreds of startup ventures.&nbsp\;If you have ever considered creating and implementing your vision of what life should look like\, this workshop will inspire you.&nbsp\;See Jeff&rsquo\;s LinkedIn profile here:&nbsp\;Jeff Levy</span></span>
LOCATION:Workshop Link
UID:e.1818.54646
SEQUENCE:3
DTSTAMP:20260419T115310Z
URL:https://business.grantspasschamber.org/events/details/the-new-work-life-balance-creating-a-portfolio-life-54646
END:VEVENT

END:VCALENDAR
