BEGIN:VCALENDAR
VERSION:2.0
PRODID:-//ChamberMaster//Event Calendar 2.0//EN
METHOD:PUBLISH
X-PUBLISHED-TTL:P3D
REFRESH-INTERVAL:P3D
CALSCALE:GREGORIAN
BEGIN:VEVENT
DTSTART:20160617T190000Z
DTEND:20160619T190000Z
X-MICROSOFT-CDO-ALLDAYEVENT:FALSE
SUMMARY:The Oregon Shakespeare Festival
DESCRIPTION:The Oregon Shakespeare Festival in Ashland opens its outdoor summer season.
X-ALT-DESC;FMTTYPE=text/html:The Oregon Shakespeare Festival in Ashland opens its outdoor summer season.
LOCATION:
UID:e.1818.15262
SEQUENCE:3
DTSTAMP:20260425T224223Z
URL:https://business.grantspasschamber.org/events/details/the-oregon-shakespeare-festival-06-17-2016-15262
END:VEVENT

END:VCALENDAR
