BEGIN:VCALENDAR
VERSION:2.0
PRODID:-//ChamberMaster//Event Calendar 2.0//EN
METHOD:PUBLISH
X-PUBLISHED-TTL:P3D
REFRESH-INTERVAL:P3D
CALSCALE:GREGORIAN
BEGIN:VEVENT
DTSTART;VALUE=DATE:20180615
DTEND;VALUE=DATE:20180618
TRANSP:TRANSPARENT
X-MICROSOFT-CDO-ALLDAYEVENT:TRUE
SUMMARY:The Oregon Shakespeare Festival Opener
DESCRIPTION:The Oregon Shakespeare Festival in Ashland opens its outdoor summer season.
X-ALT-DESC;FMTTYPE=text/html:The Oregon Shakespeare Festival in Ashland opens its outdoor summer season.
LOCATION:
UID:e.1818.28783
SEQUENCE:3
DTSTAMP:20260424T013048Z
URL:https://business.grantspasschamber.org/events/details/the-oregon-shakespeare-festival-opener-28783
END:VEVENT

END:VCALENDAR
