BEGIN:VCALENDAR
VERSION:2.0
PRODID:-//ChamberMaster//Event Calendar 2.0//EN
METHOD:PUBLISH
X-PUBLISHED-TTL:P3D
REFRESH-INTERVAL:P3D
CALSCALE:GREGORIAN
BEGIN:VEVENT
DTSTART;VALUE=DATE:20160630
DTEND;VALUE=DATE:20160704
TRANSP:TRANSPARENT
X-MICROSOFT-CDO-ALLDAYEVENT:TRUE
SUMMARY:The Prodigals - Faith Can Lead You Home: a Musical
DESCRIPTION:This world premier of Clarion Theatre Company's new musical is written by John Sleadd of Grants Pass. A tale of the Prodigal Son\, told in the setting of Victorian England\, in which Ferrell Prodigal leaves with his inheritance to squander in riotous living\, only to find himself destitute and in need of forgiveness.\n\n\n\nHis place in the family is restored\, but not without tragic consequences. An inspiring\, humorous\, family-friendly show sure to warm the heart.\n\n\n\nCall Barnstormers Box Office at (541) 479-3557
X-ALT-DESC;FMTTYPE=text/html:<strong>This world premier of Clarion Theatre Company&#39\;s new musical is written by John Sleadd of Grants Pass. A tale of the Prodigal Son\, told in the setting of Victorian England\, in which Ferrell Prodigal leaves with his inheritance to squander in riotous living\, only to find himself destitute and in need of</strong> <strong>forgiveness.<br />\n<br />\nHis place in the family is restored\, but not without tragic consequences. An inspiring\, humorous\, family-friendly show sure to warm the heart.<br />\n<br />\nCall Barnstormers Box Office at (541) 479-3557</strong>
LOCATION:Barnstormers Theatre\, 112 Evelyn\, Grants Pass
UID:e.1818.16864
SEQUENCE:3
DTSTAMP:20260425T211616Z
URL:https://business.grantspasschamber.org/events/details/the-prodigals-faith-can-lead-you-home-a-musical-06-30-2016-16864
END:VEVENT

END:VCALENDAR
