BEGIN:VCALENDAR
VERSION:2.0
PRODID:-//ChamberMaster//Event Calendar 2.0//EN
METHOD:PUBLISH
X-PUBLISHED-TTL:P3D
REFRESH-INTERVAL:P3D
CALSCALE:GREGORIAN
BEGIN:VEVENT
DTSTART:20160514T160000Z
DTEND:20160514T210000Z
X-MICROSOFT-CDO-ALLDAYEVENT:FALSE
SUMMARY:The Silver Screen ~ 25th Annual Dog Walk
DESCRIPTION:Dogs for the Deaf is proud to bring awareness to our mission by hosting the 25th anniversary of our fundraising Dog Walk. It is our largest local fundraising event and draws hundreds of Southern Oregon's most devoted dog lovers and supports. \n\n\n\nHosted by Q100.3 and The Valley 106.3
X-ALT-DESC;FMTTYPE=text/html:<strong>Dogs for the Deaf is proud to bring awareness to our mission by hosting the 25th&nbsp\;anniversary of our fundraising Dog Walk. It is our largest local fundraising event and draws hundreds of Southern Oregon&#39\;s most devoted dog lovers and supports.&nbsp\;<br />\n<br />\nHosted by Q100.3 and The Valley 106.3</strong>
LOCATION:Jacksonville Elementary School 655 Hueners Lane Jacksonville\, OR
UID:e.1818.15837
SEQUENCE:3
DTSTAMP:20260426T000137Z
URL:https://business.grantspasschamber.org/events/details/the-silver-screen-25th-annual-dog-walk-05-14-2016-15837
END:VEVENT

END:VCALENDAR
