BEGIN:VCALENDAR
VERSION:2.0
PRODID:-//ChamberMaster//Event Calendar 2.0//EN
METHOD:PUBLISH
X-PUBLISHED-TTL:P3D
REFRESH-INTERVAL:P3D
CALSCALE:GREGORIAN
BEGIN:VEVENT
DTSTART:20190921T200000Z
DTEND:20190921T220000Z
X-MICROSOFT-CDO-ALLDAYEVENT:FALSE
SUMMARY:The Venuti Group Inc. - Open House at 104 Dawnhill Ct
DESCRIPTION:The Venuti Group Inc. hosts an OPEN HOUSE at 104 Dawnhill Court\, Grants Pass\n\nSaturday September 21st from 1 pm - 3 pm\n\n\n\nThe place you've been looking for\, this one has it all! Home is 2893 square feet with 3 bedrooms\, 3 bathrooms\, and a den.\n\n\n\nJust minutes from downtown this city retreat is located on a quiet cul-de-sac in desirable NW Grants Pass and is perfect for entertaining family and friends. Freshly updated inside\, two car garage\, private backyard with covered patio\, above ground pool and hot tub. Additional parking for boat or RV.\n\n\nNeed Financing? Dan Doyle from Caliber Home Loans will be available to answer questions!
X-ALT-DESC;FMTTYPE=text/html:<strong>The Venuti Group Inc. hosts an OPEN HOUSE at 104 Dawnhill Court\, Grants Pass<br />\nSaturday September 21st from 1 pm - 3 pm</strong><br />\n<br />\nThe place you&#39\;ve been looking for\, this one has it all! Home is 2893 square feet with 3 bedrooms\, 3 bathrooms\, and a den.<br />\n<br />\nJust minutes from downtown this city retreat is located on a quiet cul-de-sac in desirable NW Grants Pass and is perfect for entertaining family and friends. Freshly updated inside\, two car garage\, private backyard with covered patio\, above ground pool and hot tub. Additional parking for boat or RV.\n<div style="text-align: center\;"><br />\n<strong>Need Financing? Dan Doyle from Caliber Home Loans will be available to answer questions!</strong></div>\n<br />\n&nbsp\;
LOCATION:104 Dawnhill Court\, Grants Pass OR\, 97526
UID:e.1818.32107
SEQUENCE:3
DTSTAMP:20260423T191226Z
URL:https://business.grantspasschamber.org/events/details/the-venuti-group-inc-open-house-at-104-dawnhill-ct-32107
END:VEVENT

END:VCALENDAR
