BEGIN:VCALENDAR
VERSION:2.0
PRODID:-//ChamberMaster//Event Calendar 2.0//EN
METHOD:PUBLISH
X-PUBLISHED-TTL:P3D
REFRESH-INTERVAL:P3D
CALSCALE:GREGORIAN
BEGIN:VEVENT
DTSTART:20190406T180000Z
DTEND:20190406T200000Z
X-MICROSOFT-CDO-ALLDAYEVENT:FALSE
SUMMARY:The Venuti Group Inc. - Open House at 1132 Angler Lane
DESCRIPTION:The Venuti Group Inc. hosts an OPEN HOUSE at 1132 Angler Lane\, Grants Pass \n\nSaturday\, April 6th from 11:00am - 1:00pm.\n\n\n\nContemporary Living! Single level\, 1618 sq. ft. home built by Jacoby Homes in  2005 on .12 acre. Open floor plan\, comfortable living & entertaining!Covered front porch\, vaulted Great Room with glass door to the private back patio. Light and bright Kitchen w/window over the sink\, interior Laundry Room\, and 3 Bedrooms\, 2 Baths including the spacious Master Suite\, Lg walk-in closet. Master Bathroom w/ double sinks & step-in shower! Attached 2 car garage\, landscaping w/ sprinklers\, fenced backyard & all city services & schools\, all in a desirable neighborhood!\n\n\n\nNeed Financing? Lana Faszer from Movement Mortgage will be available to answer questions!
X-ALT-DESC;FMTTYPE=text/html:<span style="font-size:16px\;"><strong>The Venuti Group Inc. hosts an OPEN HOUSE at 1132 Angler Lane\, Grants Pass&nbsp\;<br />\nSaturday\, April 6th from 11:00am - 1:00pm.</strong><br />\n<br />\nContemporary Living! Single level\, 1618 sq. ft. home built by Jacoby&nbsp\;Homes in&nbsp\; 2005 on .12 acre. Open floor plan\, comfortable living &amp\; entertaining!Covered front porch\, vaulted Great Room with glass door to the private back patio.&nbsp\;Light and bright Kitchen w/window over the sink\, interior Laundry Room\, and 3 Bedrooms\, 2 Baths including the spacious Master Suite\, Lg walk-in closet. Master Bathroom w/ double sinks &amp\; step-in shower! Attached 2 car garage\, landscaping w/&nbsp\;sprinklers\, fenced backyard &amp\; all city services &amp\; schools\, all in a desirable neighborhood!<br />\n<br />\n<strong>Need Financing? Lana Faszer from Movement Mortgage will be available to answer questions!</strong></span><br />\n&nbsp\;
LOCATION:1132 Angler Lane Grants Pass OR\, 97527
UID:e.1818.31214
SEQUENCE:3
DTSTAMP:20260424T030026Z
URL:https://business.grantspasschamber.org/events/details/the-venuti-group-inc-open-house-at-1132-angler-lane-04-06-2019-31214
END:VEVENT

END:VCALENDAR
