BEGIN:VCALENDAR
VERSION:2.0
PRODID:-//ChamberMaster//Event Calendar 2.0//EN
METHOD:PUBLISH
X-PUBLISHED-TTL:P3D
REFRESH-INTERVAL:P3D
CALSCALE:GREGORIAN
BEGIN:VEVENT
DTSTART:20190202T200000Z
DTEND:20190202T220000Z
X-MICROSOFT-CDO-ALLDAYEVENT:FALSE
SUMMARY:The Venuti Group\, Inc. - Open House at 1132 Angler Ln
DESCRIPTION:The Venuti Group Inc. hosts an OPEN HOUSE at 1132 Angler Lane\, Grants Pass\n\nSaturday February 2nd from 12:00pm - 2:00pm.\n\n\n\nCONTEMPORARY LIVING!   Single level\, 1618 sq. ft. home built by Jacoby Homes in 2005 on .12 acre. Open floor plan\, covered front porch\, vaulted great room with glass door to private back patio. Light and bright kitchen w/window over sink\, interior laundry room\, and 3 bedrooms\, 2 baths including spacious master suite\, large walk-in \n\nclosed Master bathroom w/double sinks & step-in shower. Attached 2 car garage\, landscaping w/sprinklers\, fenced backyard & all city services & schools in a desirable neighborhood. $295\,000\n\n\n\nNeed Financing? Dan Doyle from Caliber Home Loans will be available to answer your questions!
X-ALT-DESC;FMTTYPE=text/html:<span style="font-size:16px\;"><strong>The Venuti Group Inc. hosts an OPEN HOUSE at 1132 Angler Lane\, Grants Pass<br />\nSaturday February 2nd from 12:00pm - 2:00pm.</strong><br />\n<br />\nCONTEMPORARY LIVING!&nbsp\; &nbsp\;Single level\, 1618 sq. ft. home built by Jacoby Homes in&nbsp\;2005 on .12 acre. Open floor plan\, covered front porch\, vaulted great room with glass&nbsp\;door to private back patio. Light and bright kitchen w/window over sink\, interior&nbsp\;laundry room\, and 3 bedrooms\, 2 baths including spacious master suite\, large walk-in&nbsp\;<br />\nclosed Master bathroom w/double sinks &amp\; step-in shower. Attached 2 car garage\,&nbsp\;landscaping w/sprinklers\, fenced backyard &amp\; all city services &amp\; schools in a desirable&nbsp\;neighborhood. $295\,000<br />\n<br />\n<strong>Need Financing? Dan Doyle from Caliber Home Loans will be available to answer your questions!&nbsp\;</strong></span>
LOCATION:1132 Angler Lane Grants Pass OR\, 97527
UID:e.1818.30441
SEQUENCE:3
DTSTAMP:20260424T093112Z
URL:https://business.grantspasschamber.org/events/details/the-venuti-group-inc-open-house-at-1132-angler-ln-30441
END:VEVENT

END:VCALENDAR
