BEGIN:VCALENDAR
VERSION:2.0
PRODID:-//ChamberMaster//Event Calendar 2.0//EN
METHOD:PUBLISH
X-PUBLISHED-TTL:P3D
REFRESH-INTERVAL:P3D
CALSCALE:GREGORIAN
BEGIN:VEVENT
DTSTART:20190223T210000Z
DTEND:20190223T230000Z
X-MICROSOFT-CDO-ALLDAYEVENT:FALSE
SUMMARY:The Venuti Group Inc. - Open House at 1411 SW Sturgeon Court
DESCRIPTION:The Venuti Group Inc. hosts an OPEN HOUSE at 1411 SW Sturgeon Court\, Grants Pass \n\nSaturday\, February 23rd from 1:00pm - 3:00pm\n\n\n\nDesirable area!  Pride of Ownership shows in this 1656sq ft. 3 bdrm 2bth home! \n\nLovely living room open to dining area with French doors out to covered patio and spacious fenced back yard. \n\nkitchen has Granite counters & bar area for extra entertaining\, stainless steel appliances & great storage!  \n\nComfortable guest bedrooms and full bathroom lead you to Master bedroom\, en suite & walk in closet. \n\nLaundry room has door into 2 car garage.  All on .14ac.!!\n\n\n\nNeed Financing? Dan Doyle from Caliber Home Loans will be available to answer questions!
X-ALT-DESC;FMTTYPE=text/html:<span style="font-size:16px\;"><strong>The Venuti Group Inc. hosts an OPEN HOUSE at 1411 SW Sturgeon Court\, Grants Pass&nbsp\;<br />\nSaturday\, February 23rd from 1:00pm - 3:00pm</strong><br />\n<br />\n<span style="color:#1F497D">Desirable area!&nbsp\; Pride of Ownership shows in this 1656sq ft. 3 bdrm 2bth home! </span><br />\n<span style="color:#1F497D">Lovely living room open to dining area with French doors out to covered patio and spacious fenced back yard. </span><br />\n<span style="color:#1F497D">kitchen has Granite counters &amp\; bar area for extra entertaining\, stainless steel appliances &amp\; great storage!&nbsp\; </span><br />\n<span style="color:#1F497D">Comfortable guest bedrooms and full bathroom lead you to Master bedroom\, en suite &amp\; walk in closet. </span><br />\n<span style="color:#1F497D">Laundry room has door into 2 car garage.&nbsp\; All on .14ac.!!<br />\n<br />\nNeed Financing? Dan Doyle from Caliber Home Loans will be available to answer questions!</span></span><br />\n<br />\n&nbsp\;
LOCATION:1411 SW Sturgeon Court Grants Pass OR\, 97527
UID:e.1818.30571
SEQUENCE:3
DTSTAMP:20260424T071125Z
URL:https://business.grantspasschamber.org/events/details/the-venuti-group-inc-open-house-at-1411-sw-sturgeon-court-30571
END:VEVENT

END:VCALENDAR
