BEGIN:VCALENDAR
VERSION:2.0
PRODID:-//ChamberMaster//Event Calendar 2.0//EN
METHOD:PUBLISH
X-PUBLISHED-TTL:P3D
REFRESH-INTERVAL:P3D
CALSCALE:GREGORIAN
BEGIN:VEVENT
DTSTART:20190706T190000Z
DTEND:20190706T210000Z
X-MICROSOFT-CDO-ALLDAYEVENT:FALSE
SUMMARY:The Venuti Group Inc. - Open House at 1456 Darneille Lane
DESCRIPTION:The Venuti Group Inc. hosts an OPEN HOUSE at 1456 Darneille Lane\, Grants Pass \n\nSaturday July 6th from 12:00pm - 2:00pm \n\n\n\nAbsolutely Perfect! This gorgeous 2274 sf residence in NW Grants Pass is what you've been searching for!  You'll love the open concept floorplan with 3 beds\, 2 full baths plus 2 half baths. Complete with 2 car garage & a fenced yard with lawn\, irrigation & covered patio! Open Saturday!
X-ALT-DESC;FMTTYPE=text/html:<br />\n<span style="font-size:16px\;">The Venuti Group Inc. hosts an OPEN HOUSE at 1456 Darneille Lane\, Grants Pass&nbsp\;<br />\nSaturday July 6th from 12:00pm - 2:00pm&nbsp\;<br />\n<br />\n<span style="color:#1F497D">Absolutely Perfect! This gorgeous 2274 sf residence in NW Grants Pass is what you&rsquo\;ve been searching for! &nbsp\;You&rsquo\;ll love the open concept floorplan with 3 beds\, 2 full baths plus 2 half baths. Complete with 2 car garage &amp\; a fenced yard with lawn\, irrigation &amp\; covered patio! Open Saturday!</span></span><br />\n<br />\n&nbsp\;
LOCATION:1456 Darneille Lane Grants Pass OR 97527
UID:e.1818.31868
SEQUENCE:3
DTSTAMP:20260423T235613Z
URL:https://business.grantspasschamber.org/events/details/the-venuti-group-inc-open-house-at-1456-darneille-lane-31868
END:VEVENT

END:VCALENDAR
