BEGIN:VCALENDAR
VERSION:2.0
PRODID:-//ChamberMaster//Event Calendar 2.0//EN
METHOD:PUBLISH
X-PUBLISHED-TTL:P3D
REFRESH-INTERVAL:P3D
CALSCALE:GREGORIAN
BEGIN:VEVENT
DTSTART:20190928T180000Z
DTEND:20190928T200000Z
X-MICROSOFT-CDO-ALLDAYEVENT:FALSE
SUMMARY:The Venuti Group Inc. - Open House at 2190 Kip Ln
DESCRIPTION:The Venuti Group. hosts an OPEN HOUSE at 2190 Kip Lane\, Grants Pass\n\nSaturday September 28th from 11:00 am - 1\;00 pm.\n\n\n\nOPEN HOUSE and a Movie! Come join us for popcorn and a movie in this gorgeous 2274 sf residence in NW Grants Pass!  Open concept floor plan is complete with 3 beds\, 2 full baths plus 2 half baths and a Bonus room upstairs perfect as a game room and theater!  You won't want to miss it!  \n\n\nNeed Financing? Dan Doyle from Caliber Home Loans will be available to answer questions!
X-ALT-DESC;FMTTYPE=text/html:<span style="font-size:16px\;"><strong>The Venuti Group. hosts an OPEN HOUSE at 2190 Kip Lane\, Grants Pass<br />\nSaturday September 28th from 11:00 am - 1\;00 pm.</strong><br />\n<br />\n<span style="color:#1F497D">OPEN HOUSE and a Movie! Come join us for popcorn and a movie in this gorgeous 2274 sf residence in NW Grants Pass!&nbsp\; Open concept floor plan is complete with 3 beds\, 2 full baths plus 2 half baths and a Bonus room upstairs perfect as a game room and theater!&nbsp\; You won&rsquo\;t want to miss it!&nbsp\; </span></span>\n<div style="text-align: center\;"><br />\n<span style="font-size:16px\;"><strong>Need Financing? Dan Doyle from Caliber Home Loans will be available to answer questions!</strong></span></div>\n
LOCATION:2190 Kip Lane\, Grants Pass
UID:e.1818.32136
SEQUENCE:3
DTSTAMP:20260423T191416Z
URL:https://business.grantspasschamber.org/events/details/the-venuti-group-inc-open-house-at-2190-kip-ln-09-28-2019-32136
END:VEVENT

END:VCALENDAR
