BEGIN:VCALENDAR
VERSION:2.0
PRODID:-//ChamberMaster//Event Calendar 2.0//EN
METHOD:PUBLISH
X-PUBLISHED-TTL:P3D
REFRESH-INTERVAL:P3D
CALSCALE:GREGORIAN
BEGIN:VEVENT
DTSTART:20190706T190000Z
DTEND:20190706T210000Z
X-MICROSOFT-CDO-ALLDAYEVENT:FALSE
SUMMARY:The Venuti Group Inc. - Open House at 2190 NW Kip Lane
DESCRIPTION:The Venuti Group Inc. hosts an OPEN HOUSE at 2190 NW Kip Lane\, Grants Pass\n\nSaturday July 6th from 12:00 pm - 2:00 pm \n\n\n\nGorgeous two-family set-up! Do not miss this incredible 1500 sqft\, 3 bed\, 2 bath main house w/ all the upgrades is complete w/ a two car garage\, detached 2 car garage/shop AND a 672 sqft 1 bed\, 1 bath guest house!  All on a large\, private .68 acre lot in the city limits!  OPEN SATURDAY!\n\n \nNeed Financing? Dan Doyle with Caliber Home Loans will be available to answer questions!
X-ALT-DESC;FMTTYPE=text/html:<br />\n<span style="font-size:16px\;"><strong>The Venuti Group Inc. hosts an OPEN HOUSE at 2190 NW Kip Lane\, Grants Pass<br />\nSaturday July 6th from 12:00 pm - 2:00 pm</strong>&nbsp\;<br />\n<br />\n<span style="color:#000000"><strong>Gorgeous two-family set-up!</strong> Do not miss this incredible 1500 sqft\, 3 bed\, 2 bath main house w/ all the upgrades is complete w/ a two car garage\, detached 2 car garage/shop AND a 672 sqft 1 bed\, 1 bath guest house!&nbsp\; All on a large\, private .68 acre lot in the city limits!&nbsp\; OPEN SATURDAY!</span></span><br />\n&nbsp\;\n<div style="text-align: center\;"><span style="font-size:16px\;"><span style="color:#000000"><strong>Need Financing? Dan Doyle with Caliber Home Loans will be available to answer questions!</strong></span></span></div>\n
LOCATION:2190 NW Kip Lane Grants Pass OR 97526
UID:e.1818.31869
SEQUENCE:3
DTSTAMP:20260423T223438Z
URL:https://business.grantspasschamber.org/events/details/the-venuti-group-inc-open-house-at-2190-nw-kip-lane-31869
END:VEVENT

END:VCALENDAR
