BEGIN:VCALENDAR
VERSION:2.0
PRODID:-//ChamberMaster//Event Calendar 2.0//EN
METHOD:PUBLISH
X-PUBLISHED-TTL:P3D
REFRESH-INTERVAL:P3D
CALSCALE:GREGORIAN
BEGIN:VEVENT
DTSTART:20190602T210000Z
DTEND:20190602T230000Z
X-MICROSOFT-CDO-ALLDAYEVENT:FALSE
SUMMARY:The Venuti Group Inc. - Open House at 250 Tunnel Creek Road
DESCRIPTION:The Venuti Group Inc. hosts an OPEN HOUSE at 250 Tunnel Creek Road\, Grants Pass on Sunday June 2nd  from 2pm   4pm.\n\n\n\nSecluded setting\, great house\, garage/shop and set up for horses with barn! A rare find\, on 2.5 acres with fencing\, pasture and trees\, this 1860 sf. home is move in ready. Living room with vaulted ceiling and new carpet\, dining area and kitchen with laminate flooring\, laundry\, 2 bedrooms and bathroom on main floor with another newly updated 3rd bedroom\, bathroom and bonus room with kitchenette and laundry hook ups downstairs. Detached 2 car garage\, separate 12x12 shed with electricity\, barn with 2 stalls and tack room\, and plenty of room to park RV and vehicles. This well maintained home has a heat pump for heating and cooling\, newer roof\, double pane windows\, deck\, and more! Ideal for animal and nature lovers\, potential for 2 family set up or hobby enthusiasts! A feeling of seclusion\, with convenient access to I-5\, town and shopping! \n\n \nNeed Financing? Dan Doyle from Caliber Home Loans will be on site to answer your questions!
X-ALT-DESC;FMTTYPE=text/html:<span style="font-size:11px"><strong>The Venuti Group Inc. hosts an OPEN HOUSE at 250 Tunnel Creek Road\, Grants Pass on Sunday June 2<sup>nd</sup>&nbsp\; from 2pm &ndash\; 4pm.</strong><br />\n<br />\n<span style="color:black"><span style="font-family:arial\,sans-serif">Secluded setting\, great house\, garage/shop and set up for horses with barn! A rare find\, on 2.5 acres with fencing\, pasture and trees\, this 1860 sf. home is move in ready. Living room with vaulted ceiling and new carpet\, dining area and kitchen with laminate flooring\, laundry\, 2 bedrooms and bathroom on main floor with another newly updated 3rd bedroom\, bathroom and bonus room with kitchenette and laundry hook ups downstairs. Detached 2 car garage\, separate 12x12 shed with electricity\, barn with 2 stalls and tack room\, and plenty of room to park RV and vehicles. This well maintained home has a heat pump for heating and cooling\, newer roof\, double pane windows\, deck\, and more! Ideal for animal and nature lovers\, potential for 2 family set up or hobby enthusiasts! A feeling of seclusion\, with convenient access to I-5\, town and shopping!&nbsp\;</span></span></span><br />\n&nbsp\;\n<div style="text-align: center\;"><span style="font-size:11px"><strong>Need Financing? Dan Doyle from Caliber Home Loans will be on site to answer your questions!</strong></span></div>\n
LOCATION:250 Tunnel Creek Road\, Grants Pass OR 97526
UID:e.1818.31553
SEQUENCE:3
DTSTAMP:20260424T013843Z
URL:https://business.grantspasschamber.org/events/details/the-venuti-group-inc-open-house-at-250-tunnel-creek-road-31553
END:VEVENT

END:VCALENDAR
