BEGIN:VCALENDAR
VERSION:2.0
PRODID:-//ChamberMaster//Event Calendar 2.0//EN
METHOD:PUBLISH
X-PUBLISHED-TTL:P3D
REFRESH-INTERVAL:P3D
CALSCALE:GREGORIAN
BEGIN:VEVENT
DTSTART:20190623T200000Z
DTEND:20190623T220000Z
X-MICROSOFT-CDO-ALLDAYEVENT:FALSE
SUMMARY:The Venuti Group Inc. - Open House at 257 Gordon Way
DESCRIPTION:The Venuti Group Inc. hosts an OPEN HOUSE at 257 Gordon Way\, Grants Pass\n\nSunday June 23rd from 1:00pm - 3:00pm.\n\n\n\n\n\nGardener's Delight! This 3004 square foot home with large shop sets privately on 2.64 acres and features 4 bedrooms\, 2 full and 2 half baths\, Farmhouse Kitchen\, Den\, Covered porches\, and so much more. Come and check out the Cabin Style Art Studio/Potting Shed\, RV Parking near the shop\, Views of the Rogue River from the upper decks of the home\, and be sure to visit the flower and garden beds located across the property.
X-ALT-DESC;FMTTYPE=text/html:<br />\n<span style="font-size:16px\;"><strong>The Venuti Group Inc. hosts an OPEN HOUSE at 257 Gordon Way\, Grants Pass<br />\nSunday June 23rd from 1:00pm - 3:00pm.</strong><br />\n<br />\n<br />\nGardener&#39\;s Delight! This 3004 square foot home with large shop sets privately on 2.64 acres and features 4 bedrooms\, 2 full and 2 half baths\, Farmhouse Kitchen\, Den\, Covered porches\, and so much more. Come and check out the Cabin Style Art Studio/Potting Shed\, RV Parking near the shop\, Views of the Rogue River from the upper decks of the home\, and be sure to visit the flower and garden beds located across the property.</span><br />\n&nbsp\;
LOCATION:257 Gordon Way Grants Pass
UID:e.1818.31711
SEQUENCE:3
DTSTAMP:20260423T235558Z
URL:https://business.grantspasschamber.org/events/details/the-venuti-group-inc-open-house-at-257-gordon-way-06-23-2019-31711
END:VEVENT

END:VCALENDAR
