BEGIN:VCALENDAR
VERSION:2.0
PRODID:-//ChamberMaster//Event Calendar 2.0//EN
METHOD:PUBLISH
X-PUBLISHED-TTL:P3D
REFRESH-INTERVAL:P3D
CALSCALE:GREGORIAN
BEGIN:VEVENT
DTSTART:20190914T200000Z
DTEND:20190914T220000Z
X-MICROSOFT-CDO-ALLDAYEVENT:FALSE
SUMMARY:The Venuti Group Inc. - Open House at 408 NE Baker Drive
DESCRIPTION:The Venuti Group Inc. hosts and OPEN HOUSE at 408 NE Baker Dr\, Grants Pass\n\nSaturday September 14th from 1:00 pm - 3:00 pm\n\n\n\nCharming Older Home! Single story\, 1261sf\, 3 bedrooms\, 1 1/2 bathrooms. Featuring original hardwood floors throughout most of the living space\, large picture window\, fireplace\, and brick accents. Dining room and Kitchen are darling with solid surface counter tops\, electric range\, and solid wood cabinetry. Grow your own produce with an established garden and several fruit trees. Carport with extra storage.
X-ALT-DESC;FMTTYPE=text/html:<span style="font-size:16px\;">The Venuti Group Inc. hosts and OPEN HOUSE at 408 NE Baker Dr\, Grants Pass<br />\nSaturday September 14th from 1:00 pm - 3:00 pm<br />\n<br />\nCharming Older Home! Single story\, 1261sf\, 3 bedrooms\, 1 1/2 bathrooms. Featuring original hardwood floors throughout most of the living space\, large picture window\, fireplace\, and brick accents. Dining room and Kitchen are darling with solid surface counter tops\, electric range\, and solid wood cabinetry. Grow your own produce with an established garden and several fruit trees. Carport with extra storage.</span><br />\n&nbsp\;
LOCATION:408 NE Baker Drive\, Grants Pass
UID:e.1818.32088
SEQUENCE:3
DTSTAMP:20260423T191244Z
URL:https://business.grantspasschamber.org/events/details/the-venuti-group-inc-open-house-at-408-ne-baker-drive-32088
END:VEVENT

END:VCALENDAR
