BEGIN:VCALENDAR
VERSION:2.0
PRODID:-//ChamberMaster//Event Calendar 2.0//EN
METHOD:PUBLISH
X-PUBLISHED-TTL:P3D
REFRESH-INTERVAL:P3D
CALSCALE:GREGORIAN
BEGIN:VEVENT
DTSTART;VALUE=DATE:20180610
DTEND;VALUE=DATE:20180611
TRANSP:TRANSPARENT
X-MICROSOFT-CDO-ALLDAYEVENT:TRUE
SUMMARY:The Woolgatherer ~ Barnstormers
DESCRIPTION:The Woolgatherer  \n\nBy William Mastrosimone\n\nDirected by D. Eugene Bahn\n\n \n\nRose\, a shy dimestore salesgirl whose life centers around reveries and daydreams\, lives in a dreary apartment. Into her life saunters Cliff\, a hard working\, hard drinking truck driver. He is rough and witty and just as starved for love as she is. This play does contain adult language.
X-ALT-DESC;FMTTYPE=text/html:<strong><span style="font-family:cambria">The Woolgatherer&nbsp\; </span></strong><br />\n<strong><span style="font-family:cambria">By William Mastrosimone</span></strong><br />\n<strong><span style="font-family:cambria">Directed by D. Eugene Bahn</span></strong><br />\n&nbsp\;<br />\n<span style="font-family:cambria">Rose\, a shy dimestore salesgirl whose life centers around reveries and daydreams\, lives in a dreary apartment. Into her life saunters Cliff\, a hard working\, hard drinking truck driver. He is rough and witty and just as starved for love as she is. This play does contain adult language.</span><br />\n&nbsp\;
LOCATION:Barnstormers Theatre 112 NE Evelyn Ave. Grants Pass\, OR 97526 541-479-3557
UID:e.1818.24953
SEQUENCE:3
DTSTAMP:20260424T012348Z
URL:https://business.grantspasschamber.org/events/details/the-woolgatherer-06-10-2018-24953
END:VEVENT

END:VCALENDAR
