BEGIN:VCALENDAR
VERSION:2.0
PRODID:-//ChamberMaster//Event Calendar 2.0//EN
METHOD:PUBLISH
X-PUBLISHED-TTL:P3D
REFRESH-INTERVAL:P3D
CALSCALE:GREGORIAN
BEGIN:VEVENT
DTSTART;VALUE=DATE:20180302
DTEND;VALUE=DATE:20180303
TRANSP:TRANSPARENT
X-MICROSOFT-CDO-ALLDAYEVENT:TRUE
SUMMARY:Three Tall Women ~ Barnstormers Theatre
DESCRIPTION:Three Tall Women   \n\nBy Edward Albee\n\nDirected by Judie Erickson\n\nMarch 2 - 18\, 2018\n\n\n\nOne of America's most gifted playwrights brings us a powerful tale of American family life. As a compelling\, articulate older woman recalls the events of her marriage and the life choices that she and the people close to her made\, we experience the tangled web of human desires -- and their outcomes.
X-ALT-DESC;FMTTYPE=text/html:<strong><span style="font-family:cambria">Three Tall Women &ndash\; </span></strong><br />\n<strong><span style="font-family:cambria">By Edward Albee</span></strong><br />\n<span style="font-family:arial">Directed by Judie Erickson<br />\nMarch 2 - 18\, 2018<br />\n<br />\nOne of America&rsquo\;s most gifted playwrights brings us a powerful tale of American family life. As a compelling\, articulate older woman recalls the events of her marriage and the life choices that she and the people close to her made\, we experience the tangled web of human desires -- and their outcomes.</span><br />\n&nbsp\;
LOCATION:Barnstormers Theatre 112 NE Evelyn Ave. Grants Pass\, OR 97526 541-479-3557
UID:e.1818.24934
SEQUENCE:3
DTSTAMP:20260424T070850Z
URL:https://business.grantspasschamber.org/events/details/three-tall-women-barnstormers-theatre-24934
END:VEVENT

END:VCALENDAR
