BEGIN:VCALENDAR
VERSION:2.0
PRODID:-//ChamberMaster//Event Calendar 2.0//EN
METHOD:PUBLISH
X-PUBLISHED-TTL:P3D
REFRESH-INTERVAL:P3D
CALSCALE:GREGORIAN
BEGIN:VEVENT
DTSTART;VALUE=DATE:20160523
DTEND;VALUE=DATE:20160524
TRANSP:TRANSPARENT
X-MICROSOFT-CDO-ALLDAYEVENT:TRUE
SUMMARY:Thriving Communities ~ Core Elements
DESCRIPTION:Insights & Inspiration for Creating & Collaborating Together\n\n\n\nSlide Show\, Real Life Stories and Q & A with Tracie Sage
X-ALT-DESC;FMTTYPE=text/html:<strong>Insights &amp\; Inspiration for Creating &amp\; Collaborating Together<br />\n<br />\nSlide Show\, Real Life Stories and Q &amp\; A with Tracie Sage</strong>
LOCATION:Inner Synergy 414 NE E St Grants Pass
UID:e.1818.17514
SEQUENCE:3
DTSTAMP:20260425T235803Z
URL:https://business.grantspasschamber.org/events/details/thriving-communities-core-elements-05-23-2016-17514
END:VEVENT

END:VCALENDAR
