BEGIN:VCALENDAR
VERSION:2.0
PRODID:-//ChamberMaster//Event Calendar 2.0//EN
METHOD:PUBLISH
X-PUBLISHED-TTL:P3D
REFRESH-INTERVAL:P3D
CALSCALE:GREGORIAN
BEGIN:VEVENT
DTSTART;VALUE=DATE:20160721
DTEND;VALUE=DATE:20160722
TRANSP:TRANSPARENT
X-MICROSOFT-CDO-ALLDAYEVENT:TRUE
SUMMARY:Thursday Evening ~ Concerts in the Park ~ Jubilee Park
DESCRIPTION:Bring your lawn Chairs or Blanket to Concerts in the Park\n\nat Jubilee Park for the 2016 Concerts Series\n\n\n\nThis Week:  Kelly Thibodeaux and Etouffee
X-ALT-DESC;FMTTYPE=text/html:<strong>Bring your lawn Chairs or Blanket to Concerts in the Park<br />\nat Jubilee Park for the 2016 Concerts Series<br />\n<br />\n<u>This Week:&nbsp\; Kelly Thibodeaux and Etouffee</u> </strong>
LOCATION:Jubilee Park Cave Junction
UID:e.1818.17614
SEQUENCE:3
DTSTAMP:20260425T211510Z
URL:https://business.grantspasschamber.org/events/details/thursday-evening-concerts-in-the-park-jubilee-park-07-21-2016-17614
END:VEVENT

END:VCALENDAR
