BEGIN:VCALENDAR
VERSION:2.0
PRODID:-//ChamberMaster//Event Calendar 2.0//EN
METHOD:PUBLISH
X-PUBLISHED-TTL:P3D
REFRESH-INTERVAL:P3D
CALSCALE:GREGORIAN
BEGIN:VEVENT
DTSTART:20160312T023000Z
DTEND:20160312T043000Z
X-MICROSOFT-CDO-ALLDAYEVENT:FALSE
SUMMARY:Tinkerbell Preschool Annual Silent Auction Fundraiser
DESCRIPTION:Tinkerbell Preschool is having their annual Silent Auction Fundraiser Friday\, March 11th from 6:60-8:30pm.\n\n\n\nBidding will be closed in sections throughout the evening\, so come early if you want to make sure you don?t miss out on items and services! Tinkerbell Preschool is a non-profit\, parent involved preschool for children ages three to five\; we have been serving our community in Grants Pass for over 30 years. Please come out to support us! This fund raiser is necessary to keep our doors open.\n\n\n\nThe funds are used to purchase needed supplies throughout the year\, pay for our amazing teacher and assistant\, and to give monies to our scholarship fund. The auction will have locally donated items as well as larger national company donated items including the following:\n\n\n\nDisneyland tickets\, Dutch Bros gift basket\, Bead Merchant jewelry\, gift certificate to Gates Homes Furnishing\, a rose bush\, Stampin? Up scrapbooking supplies\, tickets to the Enchanted Forest\, a hotel stay at Wildhorse resort and Casino combined with the Pendleton roundup rodeo tickets\, Cowhorn Vineyard Garden tour and wine tasting gift certificate\, Applegate River Golf Club gift certificate for two 18 hole rounds of golf\, two passes from Josephine County and Parks and Recs that cover parking and park entrance fees\, and so much more!! Please come out to support this great preschool and get some great stuff while doing it.
X-ALT-DESC;FMTTYPE=text/html:<strong>Tinkerbell Preschool is having their annual Silent Auction Fundraiser Friday\, March 11th from 6:60-8:30pm.</strong><br />\n<br />\n<strong>Bidding will be closed in sections throughout the evening\, so come early if you want to make sure you don?t miss out on items and services! Tinkerbell Preschool is a non-profit\, parent involved preschool for children ages three to five\; we have been serving our community in Grants Pass for over 30 years. Please come out to support us! This fund raiser is necessary to keep our doors open.<br />\n<br />\nThe funds are used to purchase needed supplies throughout the year\, pay for our amazing teacher and assistant\, and to give monies to our scholarship fund. The auction will have locally donated items as well as larger national company donated items including the following:<br />\n<br />\nDisneyland tickets\, Dutch Bros gift basket\, Bead Merchant jewelry\, gift certificate to Gates Homes Furnishing\, a rose bush\, Stampin? Up scrapbooking supplies\, tickets to the Enchanted Forest\, a hotel stay at Wildhorse resort and Casino combined with the Pendleton roundup rodeo tickets\, Cowhorn Vineyard Garden tour and wine tasting gift certificate\, Applegate River Golf Club gift certificate for two 18 hole rounds of golf\, two passes from Josephine County and Parks and Recs that cover parking and park entrance fees\, and so much more!! Please come out to support this great preschool and get some great stuff while doing it.</strong>
LOCATION:Evergreen's Bear Hotel\, located at 2101 Spalding Avenue\, Grants Pass
UID:e.1818.15759
SEQUENCE:3
DTSTAMP:20260426T030803Z
URL:https://business.grantspasschamber.org/events/details/tinkerbell-preschool-annual-silent-auction-fundraiser-03-11-2016-15759
END:VEVENT

END:VCALENDAR
