BEGIN:VCALENDAR
VERSION:2.0
PRODID:-//ChamberMaster//Event Calendar 2.0//EN
METHOD:PUBLISH
X-PUBLISHED-TTL:P3D
REFRESH-INTERVAL:P3D
CALSCALE:GREGORIAN
BEGIN:VEVENT
DTSTART:20180407T170000Z
DTEND:20180407T200000Z
X-MICROSOFT-CDO-ALLDAYEVENT:FALSE
SUMMARY:TOTAL ESTATE AUCTION
DESCRIPTION:ROGUE OREGON AUCTIONEERS\n\nIS EXCITED ABOUT AN UPCOMING \n\nTOTAL ESTATE AUCTION\n\nRogue Oregon Auctioneers\n\nJoin us SAT   April 7th\, 10:00 a.m.\n \n\nVehicles\, Boat & Trailer\, Trailers\, Quad\, Tractor\, Industrial Tools\, Commercial Riding Mowers\, Zero Turn Mower\, Furniture\, Household\, Entertainment Systems & More!\n \n\nPREVIEW is on April 6th\, 1-4pm
X-ALT-DESC;FMTTYPE=text/html:<div style="text-align:center"><span style="font-size:24px">ROGUE OREGON AUCTIONEERS<br />\nIS EXCITED ABOUT AN UPCOMING </span><br />\n<strong><span style="font-size:24px">TOTAL ESTATE AUCTION</span></strong><br />\n<span style="font-size:20px">Rogue Oregon Auctioneers</span></div>\n\n<div style="text-align:center"><span style="font-size:20px"><strong>Join us SAT &ndash\; April 7th\, 10:00 a.m.</strong></span></div>\n&nbsp\;\n\n<div style="text-align:center"><span style="font-size:20px">Vehicles\, Boat &amp\; Trailer\, Trailers\, Quad\, Tractor\, Industrial Tools\, Commercial Riding Mowers\, Zero Turn Mower\, Furniture\, Household\,&nbsp\;Entertainment Systems &amp\;&nbsp\;More!</span></div>\n&nbsp\;\n\n<div style="text-align:center"><strong><span style="font-size:14pt">PREVIEW is on April 6</span><sup><span style="font-size:14pt">th</span><span style="font-size:20px">\,&nbsp\;</span></sup><span style="font-size:14pt">1-4pm</span></strong></div>\n
LOCATION:BECKLIN DRIVE MERLIN\, OREGON (FOLLOW THE AUCTION SIGNS)
UID:e.1818.27631
SEQUENCE:3
DTSTAMP:20260424T050850Z
URL:https://business.grantspasschamber.org/events/details/total-estate-auction-04-07-2018-27631
END:VEVENT

END:VCALENDAR
