BEGIN:VCALENDAR
VERSION:2.0
PRODID:-//ChamberMaster//Event Calendar 2.0//EN
METHOD:PUBLISH
X-PUBLISHED-TTL:P3D
REFRESH-INTERVAL:P3D
CALSCALE:GREGORIAN
BEGIN:VEVENT
DTSTART;VALUE=DATE:20160319
DTEND;VALUE=DATE:20160320
TRANSP:TRANSPARENT
X-MICROSOFT-CDO-ALLDAYEVENT:TRUE
SUMMARY:Touch of Class ~ Zonta's Community Woman of the Year
DESCRIPTION:Zonta Club of Grants Pass Foundation cordially Invites you to Attend "Touch of Class".  \n\n\n\nAnnual Champagne Brunch honoring Zonta's "Community Woman of the Year" and Yellow Rose Awards Recipients
X-ALT-DESC;FMTTYPE=text/html:<strong>Zonta Club of Grants Pass Foundation cordially Invites you to Attend &quot\;Touch of Class&quot\;. &nbsp\;</strong><br />\n<br />\n<strong>Annual Champagne Brunch honoring Zonta&#39\;s &quot\;Community Woman of the Year&quot\; and Yellow Rose Awards Recipients</strong>
LOCATION:Grants Pass Golf Club
UID:e.1818.15766
SEQUENCE:3
DTSTAMP:20260426T030921Z
URL:https://business.grantspasschamber.org/events/details/touch-of-class-zonta-s-community-woman-of-the-year-03-19-2016-15766
END:VEVENT

END:VCALENDAR
