BEGIN:VCALENDAR
VERSION:2.0
PRODID:-//ChamberMaster//Event Calendar 2.0//EN
METHOD:PUBLISH
X-PUBLISHED-TTL:P3D
REFRESH-INTERVAL:P3D
CALSCALE:GREGORIAN
BEGIN:VEVENT
DTSTART;VALUE=DATE:20160425
DTEND;VALUE=DATE:20160426
TRANSP:TRANSPARENT
X-MICROSOFT-CDO-ALLDAYEVENT:TRUE
SUMMARY:Town Hall Meeting ~ County Commissioners
DESCRIPTION:The Josephine County Board of Commissioners will be hosting a Town Hall Community meeting in the Illinois Valley\n\n\n\nAll residents are invited to attend
X-ALT-DESC;FMTTYPE=text/html:<strong>The Josephine County Board of Commissioners will be hosting a Town Hall Community meeting in the Illinois Valley<br />\n<br />\nAll residents are invited to attend</strong>
LOCATION:Cave Junction County Building 102 South Redwood Hwy Cave Junction
UID:e.1818.17289
SEQUENCE:3
DTSTAMP:20260426T013707Z
URL:https://business.grantspasschamber.org/events/details/town-hall-meeting-county-commissioners-04-25-2016-17289
END:VEVENT

END:VCALENDAR
