BEGIN:VCALENDAR
VERSION:2.0
PRODID:-//ChamberMaster//Event Calendar 2.0//EN
METHOD:PUBLISH
X-PUBLISHED-TTL:P3D
REFRESH-INTERVAL:P3D
CALSCALE:GREGORIAN
BEGIN:VEVENT
DTSTART:20160611T160000Z
DTEND:20160612T020000Z
X-MICROSOFT-CDO-ALLDAYEVENT:FALSE
SUMMARY:Toyota Swap Meet and Greet
DESCRIPTION:Mike's Custom Toys Presents the first Toyota Swap Meet and Greet held in Grants Pass! A place where you can trade\, sell\, buy\, and show off your Toyota Treasures.\n\n\n\nAwards\, Door Prizes to be given away Food and beverage for purchase Come on out and enjoy the fun\, music\, and meet new Toyota fans.
X-ALT-DESC;FMTTYPE=text/html:<strong>Mike&#39\;s Custom Toys Presents the first Toyota Swap Meet and Greet held in Grants Pass! A place where you can trade\, sell\, buy\, and show off your Toyota Treasures.<br />\n<br />\nAwards\, Door Prizes to be given away Food and beverage for purchase Come on out and enjoy the fun\, music\, and meet new Toyota fans.</strong>
LOCATION:Josephine County Fairgrounds PARK and ENTER at the GRANDSTANDS 1451 Fairgrounds Road Grants Pass\, OR 97527
UID:e.1818.17540
SEQUENCE:3
DTSTAMP:20260425T224105Z
URL:https://business.grantspasschamber.org/events/details/toyota-swap-meet-and-greet-06-11-2016-17540
END:VEVENT

END:VCALENDAR
