BEGIN:VCALENDAR
VERSION:2.0
PRODID:-//ChamberMaster//Event Calendar 2.0//EN
METHOD:PUBLISH
X-PUBLISHED-TTL:P3D
REFRESH-INTERVAL:P3D
CALSCALE:GREGORIAN
BEGIN:VEVENT
DTSTART:20200613T170000Z
DTEND:20200613T220000Z
X-MICROSOFT-CDO-ALLDAYEVENT:FALSE
SUMMARY:Tree Sale-GP Gardening Club
DESCRIPTION:The Grants Pass Garden Club is having a Tree Sale this Saturday\, June 13th from 10:00 a.m. to 3:00 p.m. The Sale will be located in a field at 1390 NW Highland Avenue\, Grants Pass.\n\n\n\nA large variety of trees will be available: \n\nconifers/evergreens\, Japanese Maples\, Golden chain trees (Laburnum)\, Loquats for house plants and many\,\n\nmany more varieties. Trees average 3' in height and will be selling for $10 each.\n\n\n\nA large variety of other plants and some yard art will also be available for purchase.\n\n\n\nCASH or CHECKS ONLY. Credit and debit cards will not be accepted. \n\nThe Grants Pass Garden Club supports numerous local community projects.\n\n\n\nSOCIAL DISTANCING WILL BE OBSERVED.
X-ALT-DESC;FMTTYPE=text/html:<span style="color: rgb(29\, 33\, 41)\; font-family: Helvetica\, Arial\, sans-serif\; font-size: 14px\; white-space: pre-wrap\; background-color: rgb(255\, 255\, 255)\;">The Grants Pass Garden Club is having a Tree Sale this Saturday\, June 13th from 10:00 a.m. to 3:00 p.m. The Sale will be located in a field at 1390 NW Highland Avenue\, Grants Pass.</span><br style="color: rgb(29\, 33\, 41)\; font-family: Helvetica\, Arial\, sans-serif\; font-size: 14px\; white-space: pre-wrap\; background-color: rgb(255\, 255\, 255)\;" />\n<br />\n<span style="color: rgb(29\, 33\, 41)\; font-family: Helvetica\, Arial\, sans-serif\; font-size: 14px\; white-space: pre-wrap\; background-color: rgb(255\, 255\, 255)\;">A large variety of trees will be available: </span><br style="color: rgb(29\, 33\, 41)\; font-family: Helvetica\, Arial\, sans-serif\; font-size: 14px\; white-space: pre-wrap\; background-color: rgb(255\, 255\, 255)\;" />\n<span style="color: rgb(29\, 33\, 41)\; font-family: Helvetica\, Arial\, sans-serif\; font-size: 14px\; white-space: pre-wrap\; background-color: rgb(255\, 255\, 255)\;">conifers/evergreens\, Japanese Maples\, Golden chain trees (Laburnum)\, Loquats for house plants and many\,</span><br style="color: rgb(29\, 33\, 41)\; font-family: Helvetica\, Arial\, sans-serif\; font-size: 14px\; white-space: pre-wrap\; background-color: rgb(255\, 255\, 255)\;" />\n<span style="color: rgb(29\, 33\, 41)\; font-family: Helvetica\, Arial\, sans-serif\; font-size: 14px\; white-space: pre-wrap\; background-color: rgb(255\, 255\, 255)\;">many more varieties. Trees average 3&rsquo\; in height and will be selling for $10 each.</span><br style="color: rgb(29\, 33\, 41)\; font-family: Helvetica\, Arial\, sans-serif\; font-size: 14px\; white-space: pre-wrap\; background-color: rgb(255\, 255\, 255)\;" />\n<br />\n<span style="color: rgb(29\, 33\, 41)\; font-family: Helvetica\, Arial\, sans-serif\; font-size: 14px\; white-space: pre-wrap\; background-color: rgb(255\, 255\, 255)\;">A large variety of other plants and some yard art will also be available for purchase.</span><br style="color: rgb(29\, 33\, 41)\; font-family: Helvetica\, Arial\, sans-serif\; font-size: 14px\; white-space: pre-wrap\; background-color: rgb(255\, 255\, 255)\;" />\n<br />\n<span style="color: rgb(29\, 33\, 41)\; font-family: Helvetica\, Arial\, sans-serif\; font-size: 14px\; white-space: pre-wrap\; background-color: rgb(255\, 255\, 255)\;">CASH or CHECKS ONLY. Credit and debit cards will not be accepted. </span><br style="color: rgb(29\, 33\, 41)\; font-family: Helvetica\, Arial\, sans-serif\; font-size: 14px\; white-space: pre-wrap\; background-color: rgb(255\, 255\, 255)\;" />\n<span style="color: rgb(29\, 33\, 41)\; font-family: Helvetica\, Arial\, sans-serif\; font-size: 14px\; white-space: pre-wrap\; background-color: rgb(255\, 255\, 255)\;">The Grants Pass Garden Club supports numerous local community projects.</span><br style="color: rgb(29\, 33\, 41)\; font-family: Helvetica\, Arial\, sans-serif\; font-size: 14px\; white-space: pre-wrap\; background-color: rgb(255\, 255\, 255)\;" />\n<br />\n<span style="color: rgb(29\, 33\, 41)\; font-family: Helvetica\, Arial\, sans-serif\; font-size: 14px\; white-space: pre-wrap\; background-color: rgb(255\, 255\, 255)\;">SOCIAL DISTANCING WILL BE OBSERVED.</span><br style="color: rgb(29\, 33\, 41)\; font-family: Helvetica\, Arial\, sans-serif\; font-size: 14px\; white-space: pre-wrap\; background-color: rgb(255\, 255\, 255)\;" />\n&nbsp\;
LOCATION:1390 NW Highland Ave. Grants Pass\, OR 97526
UID:e.1818.33481
SEQUENCE:3
DTSTAMP:20260424T093005Z
URL:https://business.grantspasschamber.org/events/details/tree-sale-gp-gardening-club-33481
END:VEVENT

END:VCALENDAR
