BEGIN:VCALENDAR
VERSION:2.0
PRODID:-//ChamberMaster//Event Calendar 2.0//EN
METHOD:PUBLISH
X-PUBLISHED-TTL:P3D
REFRESH-INTERVAL:P3D
CALSCALE:GREGORIAN
BEGIN:VEVENT
DTSTART:20241027T230000Z
DTEND:20241028T010000Z
X-MICROSOFT-CDO-ALLDAYEVENT:FALSE
SUMMARY:Trunk or Treat
DESCRIPTION:Trunk or Treat is an amazing opportunity for kids to come to a safe environment and participate in games\, prizes\, an inflatable park and of course candy\, lots of candy! \n\n\nBring the whole family for our Trunk or Treat on Sunday\, October 27th from 4-6pm! Right here on our campus at Parkway Christian Center\, 229 NE Beacon Dr. Grants Pass (across from Fred Meyer).\n\n\n\nOur parking lot will be full of FREE candy\, games and an inflatable park. Additional food and snacks will be available for purchase.\n\n\n\nDuring the event\, find our main tent and enter for a chance to win amazing prizes. We will draw winners at 6pm. Need not be present to win.
X-ALT-DESC;FMTTYPE=text/html:<p><span style="font-size:20px\;">Trunk or Treat is an amazing opportunity for kids to come to a safe environment and participate in games\, prizes\, an inflatable park and of course candy\, lots of candy!&nbsp\;</span></p>\n\n<div>\n<div><span style="font-size:20px\;">Bring the whole family for our Trunk or Treat on Sunday\, October 27th from 4-6pm! Right here on our campus at Parkway Christian Center\, 229 NE Beacon Dr. Grants Pass (across from Fred Meyer).</span></div>\n\n<div><br />\n<span style="font-size:20px\;">Our parking lot will be full of FREE candy\, games and an inflatable park. Additional food and snacks will be available for purchase.</span></div>\n\n<div><br />\n<span style="font-size:20px\;">During the event\, find our main tent and enter for a chance to win amazing prizes. We will draw winners at 6pm. Need not be present to win.</span></div>\n</div>\n
LOCATION:Parkway Christian Center 229 NE Beacon Dr.\, Grants Pass\, OR 97526 Across from Fred Meyer
UID:e.1818.52197
SEQUENCE:3
DTSTAMP:20260421T111050Z
URL:https://business.grantspasschamber.org/events/details/trunk-or-treat-10-27-2024-52197
END:VEVENT

END:VCALENDAR
