BEGIN:VCALENDAR
VERSION:2.0
PRODID:-//ChamberMaster//Event Calendar 2.0//EN
METHOD:PUBLISH
X-PUBLISHED-TTL:P3D
REFRESH-INTERVAL:P3D
CALSCALE:GREGORIAN
BEGIN:VEVENT
DTSTART:20211030T170000Z
DTEND:20211030T200000Z
X-MICROSOFT-CDO-ALLDAYEVENT:FALSE
SUMMARY:Trunk or Treat-JOCO Fairgrounds
DESCRIPTION:Join us for Josephine County and Grants Pass Toyota's Trunk or Treat on October 30th in the Indoor Arena with your little ghost and goblins for a little Halloween fun and of course treats!! Dress up\, Trick or Treat\, take photos at the selfie station\, and see the animals! Come for some late morning/early afternoon Halloween FUN!\n\n \n\nWant to enter the coloring contest for some cool prizes? Please visit https://www.josephinecountyfairgrounds.com/.../trunk-or... to print your coloring page! Available for all ages! Don't have a printer? No worries! Come to the Fairgrounds Office any time Monday through Friday and pick one up! All coloring entries are due to the Fairgrounds Saturday October 30th by 1:00 PM.
X-ALT-DESC;FMTTYPE=text/html:<div style="text-align: center\;">\n<div style="color: rgb(44\, 40\, 39)\; font-family: MontserratLight\, Arial\, Verdana\, sans-serif\; font-size: 17px\; background-color: rgb(255\, 255\, 255)\; text-align: center\;">\n<div class="kvgmc6g5 cxmmr5t8 oygrvhab hcukyx3x c1et5uql" style="overflow-wrap: break-word\; margin: 0px\; font-family: &quot\;Segoe UI Historic&quot\;\, &quot\;Segoe UI&quot\;\, Helvetica\, Arial\, sans-serif\; color: rgb(5\, 5\, 5)\; font-size: 15px\; background-color: rgb(255\, 255\, 255)\;"><span style="font-size:20px\;">Join us for Josephine County and Grants Pass Toyota&#39\;s Trunk or Treat on October 30th in the Indoor Arena with your little ghost and goblins for a little Halloween fun and of course treats!! Dress up\, Trick or Treat\, take photos at the selfie station\, and see the animals! Come for some late morning/early afternoon Halloween FUN!</span></div>\n\n<div class="o9v6fnle cxmmr5t8 oygrvhab hcukyx3x c1et5uql" style="overflow-wrap: break-word\; margin: 0.5em 0px 0px\; font-family: &quot\;Segoe UI Historic&quot\;\, &quot\;Segoe UI&quot\;\, Helvetica\, Arial\, sans-serif\; color: rgb(5\, 5\, 5)\; font-size: 15px\; background-color: rgb(255\, 255\, 255)\;">&nbsp\;</div>\n\n<div class="o9v6fnle cxmmr5t8 oygrvhab hcukyx3x c1et5uql" style="overflow-wrap: break-word\; margin: 0.5em 0px 0px\; font-family: &quot\;Segoe UI Historic&quot\;\, &quot\;Segoe UI&quot\;\, Helvetica\, Arial\, sans-serif\; color: rgb(5\, 5\, 5)\; font-size: 15px\; background-color: rgb(255\, 255\, 255)\;"><span style="font-size:20px\;">Want to enter the coloring contest for some cool prizes? Please visit&nbsp\;<a class="oajrlxb2 g5ia77u1 qu0x051f esr5mh6w e9989ue4 r7d6kgcz rq0escxv nhd2j8a9 nc684nl6 p7hjln8o kvgmc6g5 cxmmr5t8 oygrvhab hcukyx3x jb3vyjys rz4wbd8a qt6c0cv9 a8nywdso i1ao9s8h esuyzwwr f1sip0of lzcic4wl py34i1dx gpro0wi8" href="https://l.facebook.com/l.php?u=https%3A%2F%2Fwww.josephinecountyfairgrounds.com%2Fevents%2F2021%2Ftrunk-or-treat2%3Ffbclid%3DIwAR1Z-gSo2iDAqVsDZQrsRGz0SX3x1QP4ipXDxE--xwcTViMCASI1V2kPxEU&amp\;h=AT0TSfd8ToAjfMRN7if03G-9NykiThZPErsRAYdkaJAWAaxj98Nk--ZUXAETgT_2Xh_h8Xklh7vI1Qas3xT8HQ1ksvPL3AMz6C61KnJOpbzb-IuDeq3J6cNS6fnbVlyiedHg&amp\;__tn__=q&amp\;c[0]=AT24Tk2-WF6s8lkZ9Ubqg23lQL7_c0M5TxkPKmZKH8nSuZdkx9UXeeFQZ1XCJg8tdWl3crK7VbLv4ZGIP12QPgkFYj2JN_kF-U4lGONIWrbvtQ0nIwEl6Yg2Z8gzia3O_afmsSxHOSdhXNxFe7OsItb_" rel="nofollow noopener" role="link" style="cursor: pointer\; outline: none\; list-style: none\; border-width: 0px\; border-style: initial\; border-color: initial\; padding: 0px\; margin: 0px\; touch-action: manipulation\; background-color: transparent\; text-align: inherit\; display: inline\; -webkit-tap-highlight-color: transparent\; box-sizing: border-box\; font-family: inherit\;" tabindex="0" target="_blank">https://www.josephinecountyfairgrounds.com/.../trunk-or...</a>&nbsp\;to print your coloring page! Available for all ages! Don&#39\;t have a printer? No worries! Come to the Fairgrounds Office any time Monday through Friday and pick one up! All coloring entries are due to the Fairgrounds Saturday October 30th by 1:00 PM.</span></div>\n</div>\n</div>\n
LOCATION:JOCO Fairgrounds 1451 Fairgrounds Rd. Grants Pass\, OR 97527
UID:e.1818.37793
SEQUENCE:3
DTSTAMP:20260420T204227Z
URL:https://business.grantspasschamber.org/events/details/trunk-or-treat-joco-fairgrounds-37793
END:VEVENT

END:VCALENDAR
