BEGIN:VCALENDAR
VERSION:2.0
PRODID:-//ChamberMaster//Event Calendar 2.0//EN
METHOD:PUBLISH
X-PUBLISHED-TTL:P3D
REFRESH-INTERVAL:P3D
CALSCALE:GREGORIAN
BEGIN:VEVENT
DTSTART;VALUE=DATE:20161124
DTEND;VALUE=DATE:20161125
TRANSP:TRANSPARENT
X-MICROSOFT-CDO-ALLDAYEVENT:TRUE
SUMMARY:Turkey Trot ~ 3rd Annual
DESCRIPTION:A Thanksgiving morning fun run with costumes and prizes.
X-ALT-DESC;FMTTYPE=text/html:<strong>A Thanksgiving morning fun run with costumes and prizes.</strong>
LOCATION:Grants Pass Family YMCA
UID:e.1818.15525
SEQUENCE:3
DTSTAMP:20260425T144844Z
URL:https://business.grantspasschamber.org/events/details/turkey-trot-3rd-annual-11-24-2016-15525
END:VEVENT

END:VCALENDAR
