BEGIN:VCALENDAR
VERSION:2.0
PRODID:-//ChamberMaster//Event Calendar 2.0//EN
METHOD:PUBLISH
X-PUBLISHED-TTL:P3D
REFRESH-INTERVAL:P3D
CALSCALE:GREGORIAN
BEGIN:VEVENT
DTSTART:20240217T033000Z
DTEND:20240217T053000Z
X-MICROSOFT-CDO-ALLDAYEVENT:FALSE
SUMMARY:Tutunov & Friends
DESCRIPTION:The Tutunov Piano Series is pleased to present Tutunov & Friends featuring Fritz Gearhart\, violin and Rhett Bender\, saxophone together with Alexander Tutunov\, piano on Friday\, February 16\, 2024. A livestream is available for this performance.
X-ALT-DESC;FMTTYPE=text/html:<br />\n<span style="font-size:20px\;">The Tutunov Piano Series is pleased to present Tutunov &amp\; Friends featuring Fritz Gearhart\, violin and Rhett Bender\, saxophone together with Alexander Tutunov\, piano on Friday\, February 16\, 2024. A livestream is available for this performance.</span>
LOCATION:SOU Music Building 450 S Mountain Ave Ashland OR 97520
UID:e.1818.47682
SEQUENCE:3
DTSTAMP:20260420T160750Z
URL:https://business.grantspasschamber.org/events/details/tutunov-friends-47682
END:VEVENT

END:VCALENDAR
