BEGIN:VCALENDAR
VERSION:2.0
PRODID:-//ChamberMaster//Event Calendar 2.0//EN
METHOD:PUBLISH
X-PUBLISHED-TTL:P3D
REFRESH-INTERVAL:P3D
CALSCALE:GREGORIAN
BEGIN:VEVENT
DTSTART:20160827T020000Z
DTEND:20160827T030000Z
X-MICROSOFT-CDO-ALLDAYEVENT:FALSE
SUMMARY:Twin Heroes Inaugural Concert
DESCRIPTION:In collaboration with the Chinquapin Center for the Arts\, Twin Heroes presents its inaugural summer festival.\n\n\n\nThe concert features excerpts from "No Sound The Earth Owes\," an electroacoustic opera by Alexander Vassos\, a string quartet by emerging local composer Seven Sky\, and poetry by Blaine Alexander Lindsey.
X-ALT-DESC;FMTTYPE=text/html:<strong>In collaboration with the Chinquapin Center for the Arts\, Twin Heroes presents its inaugural summer festival.<br />\n<br />\nThe concert features excerpts from &quot\;No Sound The Earth Owes\,&quot\; an electroacoustic opera by Alexander Vassos\, a string quartet by emerging local composer Seven Sky\, and poetry by Blaine Alexander Lindsey.</strong>
LOCATION:Grants Pass Museum of Art 229 SW G St\, Grants Pass\, Oregon 97526
UID:e.1818.17759
SEQUENCE:3
DTSTAMP:20260425T192705Z
URL:https://business.grantspasschamber.org/events/details/twin-heroes-inaugural-concert-17759
END:VEVENT

END:VCALENDAR
