BEGIN:VCALENDAR
VERSION:2.0
PRODID:-//ChamberMaster//Event Calendar 2.0//EN
METHOD:PUBLISH
X-PUBLISHED-TTL:P3D
REFRESH-INTERVAL:P3D
CALSCALE:GREGORIAN
BEGIN:VEVENT
DTSTART:20230303T190000Z
DTEND:20230304T010000Z
X-MICROSOFT-CDO-ALLDAYEVENT:FALSE
SUMMARY:Two Rivers Vineyard-First Fridays/Tasting Room Hrs
DESCRIPTION:Two Rivers Vineyard would like to announce our new tasting room hours beginning March 1st and our First Friday events featuring live music and food pairings!
X-ALT-DESC;FMTTYPE=text/html:<span style="font-size:20px\;">Two Rivers Vineyard would like to announce our new tasting room hours beginning March 1st and our First Friday events featuring live music and food pairings!</span>
LOCATION:Two Rivers Vineyard 2123 Riverbanks Road\, Grants Pass OR\, 97527
UID:e.1818.42504
SEQUENCE:3
DTSTAMP:20260422T121433Z
URL:https://business.grantspasschamber.org/events/details/two-rivers-vineyard-first-fridays-tasting-room-hrs-42504
END:VEVENT

END:VCALENDAR
