BEGIN:VCALENDAR
VERSION:2.0
PRODID:-//ChamberMaster//Event Calendar 2.0//EN
METHOD:PUBLISH
X-PUBLISHED-TTL:P3D
REFRESH-INTERVAL:P3D
CALSCALE:GREGORIAN
BEGIN:VEVENT
DTSTART:20160506T210000Z
DTEND:20160506T230000Z
X-MICROSOFT-CDO-ALLDAYEVENT:FALSE
SUMMARY:U.S. Army Job Fair
DESCRIPTION:Have you ever thought about joining the U.S. Army? Have you ever wanted to be a part of a team that makes a difference? \n\n\n\nCome talk to our Army Recruiters May 6th\, 2016 from 2:00PM - 4:00PM at the Grants Pass WorkSource office 1569 NE F St. Grants Pass\, OR 97526.
X-ALT-DESC;FMTTYPE=text/html:<strong>Have you ever thought about joining the U.S. Army?&nbsp\;Have you ever wanted to be a part of a team that makes a difference?&nbsp\;<br />\n<br />\nCome talk to our Army Recruiters May 6th\, 2016 from 2:00PM - 4:00PM at the Grants Pass WorkSource office 1569 NE F St. Grants Pass\, OR 97526.</strong>
LOCATION:WorkSource Office 1569 NE F St. Grants Pass\, OR 97526
UID:e.1818.17454
SEQUENCE:3
DTSTAMP:20260426T000157Z
URL:https://business.grantspasschamber.org/events/details/u-s-army-job-fair-05-06-2016-17454
END:VEVENT

END:VCALENDAR
