BEGIN:VCALENDAR
VERSION:2.0
PRODID:-//ChamberMaster//Event Calendar 2.0//EN
METHOD:PUBLISH
X-PUBLISHED-TTL:P3D
REFRESH-INTERVAL:P3D
CALSCALE:GREGORIAN
BEGIN:VEVENT
DTSTART:20161008T223000Z
DTEND:20161009T020000Z
X-MICROSOFT-CDO-ALLDAYEVENT:FALSE
SUMMARY:Unchain Party!!!
DESCRIPTION:The Toby Fund will celebrate our Unchain My Heart project's successes getting 157 dogs off chain/out of tight confinement and into new yards.\n\n\n\nThe event features Olive Garden spaghetti "country" supper\; big raffle items as $2\,240 value 7 day Oregon coast vacation & $500 Grange Co-op shopping spree\; Classic County Music with Dale & Sharon including "Take These Chains from My Heart" sing-a-long\; guest Unchained dog Rylee McConnell\; Silent Auction\; Dog Jeopardy game\; home-baked desserts\, and more. Fun for all\, help Unchain Doggie Hearts!
X-ALT-DESC;FMTTYPE=text/html:<strong>The Toby Fund will celebrate our Unchain My Heart project&#39\;s successes getting 157 dogs off chain/out of tight confinement and into new yards.<br />\n<br />\nThe event features Olive Garden spaghetti &quot\;country&quot\; supper\; big raffle items as $2\,240 value 7 day Oregon coast vacation &amp\; $500 Grange Co-op shopping spree\; Classic County Music with Dale &amp\; Sharon including &quot\;Take These Chains from My Heart&quot\; sing-a-long\; guest Unchained dog Rylee McConnell\; Silent Auction\; Dog Jeopardy game\; home-baked desserts\, and more. Fun for all\, help Unchain Doggie Hearts!</strong>
LOCATION:Fruitdale Grange\, 1440 Parkdale Dr.\, Grants Pass\, Oregon
UID:e.1818.17825
SEQUENCE:3
DTSTAMP:20260425T162724Z
URL:https://business.grantspasschamber.org/events/details/unchain-party-17825
END:VEVENT

END:VCALENDAR
